BEGIN:VCALENDAR
VERSION:2.0
PRODID:-//midwestchildcare.org//NONSGML kigkonsult.se iCalcreator 2.30.10//
CALSCALE:GREGORIAN
METHOD:PUBLISH
UID:a8b3da47-4bd5-4db8-8b33-6af16940e472
X-WR-CALDESC:Caboose | An Interactive Preschool Class\n\nYou are invited to
  a Zoom meeting.When: Sep 4\, 2025 10:00 AM Central Time (US and Canada)\n
 \nRegister in advance for this meeting:\nhttps://us02web.zoom.us/meeting/r
 egister/hqNwLVcPRcCk5rWJJfqjGg\n\nAfter registering\, you will receive a c
 onfirmation email containing information about joining the meeting.
X-WR-RELCALID:714cfbcb6d42a46c8eb7571cdd7cc5cb
X-WR-TIMEZONE:America/Chicago
BEGIN:VTIMEZONE
TZID:America/Chicago
BEGIN:STANDARD
TZNAME:CST
DTSTART:20241103T020000
TZOFFSETFROM:-0500
TZOFFSETTO:-0600
RDATE:20251102T020000
RDATE:20261101T020000
END:STANDARD
BEGIN:DAYLIGHT
TZNAME:CDT
DTSTART:20250309T020000
TZOFFSETFROM:-0600
TZOFFSETTO:-0500
RDATE:20260308T020000
END:DAYLIGHT
END:VTIMEZONE
BEGIN:VEVENT
UID:f8f11c37-e267-4e73-9565-856d67365625
DTSTAMP:20260420T142544Z
DESCRIPTION:Caboose | An Interactive Preschool Class\n\nYou are invited to 
 a Zoom meeting.When: Sep 4\, 2025 10:00 AM Central Time (US and Canada)\n
 \nRegister in advance for this meeting:\nhttps://us02web.zoom.us/meeting/r
 egister/hqNwLVcPRcCk5rWJJfqjGg\n\nAfter registering\, you will receive a c
 onfirmation email containing information about joining the meeting.
DTSTART;TZID=America/Chicago:20250904T100000
DTEND;TZID=America/Chicago:20250904T103000
LOCATION:https://us02web.zoom.us/meeting/register/hqNwLVcPRcCk5rWJJfqjGg
SUMMARY:Caboose | An Interactive Preschool Class
END:VEVENT
END:VCALENDAR
