BEGIN:VCALENDAR
VERSION:2.0
PRODID:-//midwestchildcare.org//NONSGML kigkonsult.se iCalcreator 2.30.10//
CALSCALE:GREGORIAN
METHOD:PUBLISH
UID:c82d77f6-df43-41e7-b129-c7ff50cf45f1
X-WR-CALDESC:Caboose | An Interactive Preschool Class\n\nYou are invited to
  a Zoom meeting.When: Sep 4\, 2025 09:30 AM Central Time (US and Canada)\n
 \nRegister in advance for this meeting:\nhttps://us02web.zoom.us/meeting/r
 egister/wvIEBOh6QDy4EzInLXV8vQ\n\nAfter registering\, you will receive a c
 onfirmation email containing information about joining the meeting.
X-WR-RELCALID:bc58681c39ac574d6037d018fc8c4477
X-WR-TIMEZONE:America/Chicago
BEGIN:VTIMEZONE
TZID:America/Chicago
BEGIN:STANDARD
TZNAME:CST
DTSTART:20241103T020000
TZOFFSETFROM:-0500
TZOFFSETTO:-0600
RDATE:20251102T020000
RDATE:20261101T020000
END:STANDARD
BEGIN:DAYLIGHT
TZNAME:CDT
DTSTART:20250309T020000
TZOFFSETFROM:-0600
TZOFFSETTO:-0500
RDATE:20260308T020000
END:DAYLIGHT
END:VTIMEZONE
BEGIN:VEVENT
UID:8c9539eb-0a98-4288-b0e4-8bb1e40b50ee
DTSTAMP:20260420T144619Z
DESCRIPTION:Caboose | An Interactive Preschool Class\n\nYou are invited to 
 a Zoom meeting.When: Sep 4\, 2025 09:30 AM Central Time (US and Canada)\n
 \nRegister in advance for this meeting:\nhttps://us02web.zoom.us/meeting/r
 egister/wvIEBOh6QDy4EzInLXV8vQ\n\nAfter registering\, you will receive a c
 onfirmation email containing information about joining the meeting.
DTSTART;TZID=America/Chicago:20250904T093000
DTEND;TZID=America/Chicago:20250904T100000
LOCATION:https://us02web.zoom.us/meeting/register/wvIEBOh6QDy4EzInLXV8vQ
SUMMARY:Caboose | An Interactive Preschool Class
END:VEVENT
END:VCALENDAR
