BEGIN:VCALENDAR
VERSION:2.0
PRODID:-//midwestchildcare.org//NONSGML kigkonsult.se iCalcreator 2.30.10//
CALSCALE:GREGORIAN
METHOD:PUBLISH
UID:5dfbc274-5ce4-48db-b09e-1f36c7d4f3e5
X-WR-CALDESC:Caboose | An Interactive Preschool Class\n\nYou are invited to
  a Zoom meeting.When: Sep 4\, 2025 09:00 AM Central Time (US and Canada)\n
 \nRegister in advance for this meeting:\nhttps://us02web.zoom.us/meeting/r
 egister/Cym-f88zTX2_cFjlxr623A\n\nAfter registering\, you will receive a c
 onfirmation email containing information about joining the meeting.\n
X-WR-RELCALID:3080d764e39dea956ececca8b5e548dc
X-WR-TIMEZONE:America/Chicago
BEGIN:VTIMEZONE
TZID:America/Chicago
BEGIN:STANDARD
TZNAME:CST
DTSTART:20241103T020000
TZOFFSETFROM:-0500
TZOFFSETTO:-0600
RDATE:20251102T020000
RDATE:20261101T020000
END:STANDARD
BEGIN:DAYLIGHT
TZNAME:CDT
DTSTART:20250309T020000
TZOFFSETFROM:-0600
TZOFFSETTO:-0500
RDATE:20260308T020000
END:DAYLIGHT
END:VTIMEZONE
BEGIN:VEVENT
UID:ff002650-0baf-43d4-92e4-16f8cb774b47
DTSTAMP:20260420T142151Z
DESCRIPTION:Caboose | An Interactive Preschool Class\n\nYou are invited to 
 a Zoom meeting.When: Sep 4\, 2025 09:00 AM Central Time (US and Canada)\n
 \nRegister in advance for this meeting:\nhttps://us02web.zoom.us/meeting/r
 egister/Cym-f88zTX2_cFjlxr623A\n\nAfter registering\, you will receive a c
 onfirmation email containing information about joining the meeting.\n
DTSTART;TZID=America/Chicago:20250904T090000
DTEND;TZID=America/Chicago:20250904T093000
LOCATION:https://us02web.zoom.us/meeting/register/Cym-f88zTX2_cFjlxr623A
SUMMARY:Caboose | An Interactive Preschool Class
END:VEVENT
END:VCALENDAR
