BEGIN:VCALENDAR
VERSION:2.0
PRODID:-//midwestchildcare.org//NONSGML kigkonsult.se iCalcreator 2.30.10//
CALSCALE:GREGORIAN
METHOD:PUBLISH
UID:558f5fa1-1442-4cb9-b2b3-15420124aebc
X-WR-CALDESC:Touch the Brightest Star | An Interactive Preschool Class\n\nY
 ou are invited to a Zoom meeting.When: Aug 28\, 2025 10:00 AM Central Time
  (US and Canada)\n\nRegister in advance for this meeting:\nhttps://us02web
 .zoom.us/meeting/register/FA_cnktrTjenXdz-Sf70rg\n\nAfter registering\, yo
 u will receive a confirmation email containing information about joining t
 he meeting.\n
X-WR-RELCALID:a4517baa9e30a2a3a1c52d098d1e4ad3
X-WR-TIMEZONE:America/Chicago
BEGIN:VTIMEZONE
TZID:America/Chicago
BEGIN:STANDARD
TZNAME:CST
DTSTART:20241103T020000
TZOFFSETFROM:-0500
TZOFFSETTO:-0600
RDATE:20251102T020000
RDATE:20261101T020000
END:STANDARD
BEGIN:DAYLIGHT
TZNAME:CDT
DTSTART:20250309T020000
TZOFFSETFROM:-0600
TZOFFSETTO:-0500
RDATE:20260308T020000
END:DAYLIGHT
END:VTIMEZONE
BEGIN:VEVENT
UID:9d5dc06e-3c1c-4b3b-913b-8c99220f18ef
DTSTAMP:20260420T162153Z
DESCRIPTION:Touch the Brightest Star | An Interactive Preschool Class\n\nYo
 u are invited to a Zoom meeting.When: Aug 28\, 2025 10:00 AM Central Time 
 (US and Canada)\n\nRegister in advance for this meeting:\nhttps://us02web.
 zoom.us/meeting/register/FA_cnktrTjenXdz-Sf70rg\n\nAfter registering\, you
  will receive a confirmation email containing information about joining th
 e meeting.\n
DTSTART;TZID=America/Chicago:20250828T100000
DTEND;TZID=America/Chicago:20250828T110000
LOCATION:https://us02web.zoom.us/meeting/register/FA_cnktrTjenXdz-Sf70rg
SUMMARY:Touch the Brightest Star | An Interactive Preschool Class
END:VEVENT
END:VCALENDAR
