BEGIN:VCALENDAR
VERSION:2.0
PRODID:-//midwestchildcare.org//NONSGML kigkonsult.se iCalcreator 2.30.10//
CALSCALE:GREGORIAN
METHOD:PUBLISH
UID:f015cc3e-3813-47e2-9534-badde0f5268d
X-WR-CALDESC:Touch the Brightest Star | An Interactive Preschool Class\n\nY
 ou are invited to a Zoom meeting.When: Aug 28\, 2025 09:30 AM Central Time
  (US and Canada)\n\nRegister in advance for this meeting:\nhttps://us02web
 .zoom.us/meeting/register/8-_kpzLdS-qT3OGkn2chrw\n\nAfter registering\, yo
 u will receive a confirmation email containing information about joining t
 he meeting.
X-WR-RELCALID:882d4dfaa3d6b8808950ff9e66bc2960
X-WR-TIMEZONE:America/Chicago
BEGIN:VTIMEZONE
TZID:America/Chicago
BEGIN:STANDARD
TZNAME:CST
DTSTART:20241103T020000
TZOFFSETFROM:-0500
TZOFFSETTO:-0600
RDATE:20251102T020000
RDATE:20261101T020000
END:STANDARD
BEGIN:DAYLIGHT
TZNAME:CDT
DTSTART:20250309T020000
TZOFFSETFROM:-0600
TZOFFSETTO:-0500
RDATE:20260308T020000
END:DAYLIGHT
END:VTIMEZONE
BEGIN:VEVENT
UID:ed65cedd-102e-4d5d-9094-563e0b3982c8
DTSTAMP:20260420T162140Z
DESCRIPTION:Touch the Brightest Star | An Interactive Preschool Class\n\nYo
 u are invited to a Zoom meeting.When: Aug 28\, 2025 09:30 AM Central Time 
 (US and Canada)\n\nRegister in advance for this meeting:\nhttps://us02web.
 zoom.us/meeting/register/8-_kpzLdS-qT3OGkn2chrw\n\nAfter registering\, you
  will receive a confirmation email containing information about joining th
 e meeting.
DTSTART;TZID=America/Chicago:20250828T093000
DTEND;TZID=America/Chicago:20250828T103000
LOCATION:https://us02web.zoom.us/meeting/register/8-_kpzLdS-qT3OGkn2chrw
SUMMARY:Touch the Brightest Star | An Interactive Preschool Class
END:VEVENT
END:VCALENDAR
