BEGIN:VCALENDAR
VERSION:2.0
PRODID:-//midwestchildcare.org//NONSGML kigkonsult.se iCalcreator 2.30.10//
CALSCALE:GREGORIAN
METHOD:PUBLISH
UID:93dffac3-35f5-49e5-b7c3-6a8965419e2b
X-WR-CALDESC:Touch the Brightest Star | An Interactive Preschool Class\n\nY
 ou are invited to a Zoom meeting.\nWhen: Aug 28\, 2025 09:00 AM Central Ti
 me (US and Canada)\n\nRegister in advance for this meeting:\nhttps://us02w
 eb.zoom.us/meeting/register/fvm1Sv5RT-2SDaFdBDMAvg\n\nAfter registering\, 
 you will receive a confirmation email containing information about joining
  the meeting.
X-WR-RELCALID:dbc70167359db64824c7306d2618001f
X-WR-TIMEZONE:America/Chicago
BEGIN:VTIMEZONE
TZID:America/Chicago
BEGIN:STANDARD
TZNAME:CST
DTSTART:20241103T020000
TZOFFSETFROM:-0500
TZOFFSETTO:-0600
RDATE:20251102T020000
RDATE:20261101T020000
END:STANDARD
BEGIN:DAYLIGHT
TZNAME:CDT
DTSTART:20250309T020000
TZOFFSETFROM:-0600
TZOFFSETTO:-0500
RDATE:20260308T020000
END:DAYLIGHT
END:VTIMEZONE
BEGIN:VEVENT
UID:f79c34fe-9687-440c-a7af-b11ab6c35e28
DTSTAMP:20260420T162034Z
DESCRIPTION:Touch the Brightest Star | An Interactive Preschool Class\n\nYo
 u are invited to a Zoom meeting.\nWhen: Aug 28\, 2025 09:00 AM Central Tim
 e (US and Canada)\n\nRegister in advance for this meeting:\nhttps://us02we
 b.zoom.us/meeting/register/fvm1Sv5RT-2SDaFdBDMAvg\n\nAfter registering\, y
 ou will receive a confirmation email containing information about joining 
 the meeting.
DTSTART;TZID=America/Chicago:20250828T090000
DTEND;TZID=America/Chicago:20250828T100000
LOCATION:https://us02web.zoom.us/meeting/register/fvm1Sv5RT-2SDaFdBDMAvg
SUMMARY:Touch the Brightest Star | An Interactive Preschool Class
END:VEVENT
END:VCALENDAR
