BEGIN:VCALENDAR
VERSION:2.0
PRODID:-//midwestchildcare.org//NONSGML kigkonsult.se iCalcreator 2.30.10//
CALSCALE:GREGORIAN
METHOD:PUBLISH
UID:03da6222-c4b7-4d67-ab42-c22cb3e3c1aa
X-WR-CALDESC:Nutrition and Brain Health | 1 Hour Webinar\n\nPlease register
  for Nutrition and Brain Health on Aug 25\, 2025 1:00 PM CDT at:\n\nhttps:
 //attendee.gotowebinar.com/register/3223919174466490454\n\nAfter registeri
 ng\, you will receive a confirmation email containing information about jo
 ining the webinar.
X-WR-RELCALID:2e8350e72f110e9cc67bf6569faaa309
X-WR-TIMEZONE:America/Chicago
BEGIN:VTIMEZONE
TZID:America/Chicago
BEGIN:STANDARD
TZNAME:CST
DTSTART:20241103T020000
TZOFFSETFROM:-0500
TZOFFSETTO:-0600
RDATE:20251102T020000
RDATE:20261101T020000
END:STANDARD
BEGIN:DAYLIGHT
TZNAME:CDT
DTSTART:20250309T020000
TZOFFSETFROM:-0600
TZOFFSETTO:-0500
RDATE:20260308T020000
END:DAYLIGHT
END:VTIMEZONE
BEGIN:VEVENT
UID:f4f06718-e2b2-443b-9bac-6829a742d716
DTSTAMP:20260420T162547Z
DESCRIPTION:Nutrition and Brain Health | 1 Hour Webinar\n\nPlease register 
 for Nutrition and Brain Health on Aug 25\, 2025 1:00 PM CDT at:\n\nhttps:/
 /attendee.gotowebinar.com/register/3223919174466490454\n\nAfter registerin
 g\, you will receive a confirmation email containing information about joi
 ning the webinar.
DTSTART;TZID=America/Chicago:20250825T130000
DTEND;TZID=America/Chicago:20250825T140000
LOCATION:https://attendee.gotowebinar.com/register/3223919174466490454
SUMMARY:Nutrition and Brain Health | 1 Hour Webinar
END:VEVENT
END:VCALENDAR
