BEGIN:VCALENDAR
VERSION:2.0
PRODID:-//midwestchildcare.org//NONSGML kigkonsult.se iCalcreator 2.30.10//
CALSCALE:GREGORIAN
METHOD:PUBLISH
UID:cc3e0795-f135-4d95-811f-7aae78c0eb75
X-WR-CALDESC:HSI Pediatric First Aid | CPR AED Child/Infant/Adult (2020)\n
 \nClass Number:	\n32963476\n\nClass Type:	\nClassroom Training\n\nDescriptio
 n:	\nHSI Pediatric First Aid | CPR AED Child/Infant/Adult (2020)\n\nLocatio
 n:	\n7701 Pacific St\nOmaha\, NE 68114\n\nDate/Time:	\n08/23/2025\, 9:00 AM 
 - 1:00 PM\n\nRemaining Seats:	\n99
X-WR-RELCALID:27475e2e86fbfd6e3a8a6aac220d50ce
X-WR-TIMEZONE:America/Chicago
BEGIN:VTIMEZONE
TZID:America/Chicago
BEGIN:STANDARD
TZNAME:CST
DTSTART:20241103T020000
TZOFFSETFROM:-0500
TZOFFSETTO:-0600
RDATE:20251102T020000
RDATE:20261101T020000
END:STANDARD
BEGIN:DAYLIGHT
TZNAME:CDT
DTSTART:20250309T020000
TZOFFSETFROM:-0600
TZOFFSETTO:-0500
RDATE:20260308T020000
END:DAYLIGHT
END:VTIMEZONE
BEGIN:VEVENT
UID:79574f8a-d847-4715-a3ab-02b3153a8634
DTSTAMP:20260420T163648Z
DESCRIPTION:HSI Pediatric First Aid | CPR AED Child/Infant/Adult (2020)\n\n
 Class Number:	\n32963476\n\nClass Type:	\nClassroom Training\n\nDescription:
 	\nHSI Pediatric First Aid | CPR AED Child/Infant/Adult (2020)\n\nLocation:
 	\n7701 Pacific St\nOmaha\, NE 68114\n\nDate/Time:	\n08/23/2025\, 9:00 AM - 
 1:00 PM\n\nRemaining Seats:	\n99
DTSTART;TZID=America/Chicago:20250823T090000
DTEND;TZID=America/Chicago:20250823T130000
LOCATION:https://otis.osmanager4.com/#/openEnrollment?co=1&cid=3673049
SUMMARY:HSI Pediatric First Aid | CPR AED FA In-Person Class
END:VEVENT
END:VCALENDAR
