BEGIN:VCALENDAR
VERSION:2.0
PRODID:-//midwestchildcare.org//NONSGML kigkonsult.se iCalcreator 2.30.10//
CALSCALE:GREGORIAN
METHOD:PUBLISH
UID:115425fd-0f59-4466-ac9b-289cf5fd6429
X-WR-CALDESC:Animal Moves: An Interactive Preschool Class\n\nYou are invite
 d to a Zoom meeting.\nWhen: Aug 21\, 2025 10:00 AM Central Time (US and Ca
 nada)\n\nRegister in advance for this meeting:\nhttps://us02web.zoom.us/me
 eting/register/lO6W1x18SP-NQ42BmxeNKw\n\nAfter registering\, you will rece
 ive a confirmation email containing information about joining the meeting.
X-WR-RELCALID:6a1cc0ca06cecf4c20a8ff5fdde039cb
X-WR-TIMEZONE:America/Chicago
BEGIN:VTIMEZONE
TZID:America/Chicago
BEGIN:STANDARD
TZNAME:CST
DTSTART:20241103T020000
TZOFFSETFROM:-0500
TZOFFSETTO:-0600
RDATE:20251102T020000
RDATE:20261101T020000
END:STANDARD
BEGIN:DAYLIGHT
TZNAME:CDT
DTSTART:20250309T020000
TZOFFSETFROM:-0600
TZOFFSETTO:-0500
RDATE:20260308T020000
END:DAYLIGHT
END:VTIMEZONE
BEGIN:VEVENT
UID:62153c6b-f42a-4144-bcbe-42ea58d17ece
DTSTAMP:20260420T170304Z
DESCRIPTION:Animal Moves: An Interactive Preschool Class\n\nYou are invited
  to a Zoom meeting.\nWhen: Aug 21\, 2025 10:00 AM Central Time (US and Can
 ada)\n\nRegister in advance for this meeting:\nhttps://us02web.zoom.us/mee
 ting/register/lO6W1x18SP-NQ42BmxeNKw\n\nAfter registering\, you will recei
 ve a confirmation email containing information about joining the meeting.
DTSTART;TZID=America/Chicago:20250821T100000
DTEND;TZID=America/Chicago:20250821T110000
LOCATION:https://us02web.zoom.us/meeting/register/lO6W1x18SP-NQ42BmxeNKw
SUMMARY:Animal Moves | An Interactive Preschool Class
END:VEVENT
END:VCALENDAR
