BEGIN:VCALENDAR
VERSION:2.0
PRODID:-//midwestchildcare.org//NONSGML kigkonsult.se iCalcreator 2.30.10//
CALSCALE:GREGORIAN
METHOD:PUBLISH
UID:cb8a4ba7-6d75-4b92-9fe1-c6afc240c09c
X-WR-CALDESC:Animal Moves | An Interactive Preschool Class\n\nYou are invit
 ed to a Zoom meeting.When: Aug 21\, 2025 09:00 AM Central Time (US and Can
 ada)\n\nRegister in advance for this meeting:\nhttps://us02web.zoom.us/mee
 ting/register/DIlL-FYoRNiD9pvziqjjFQ\n\nAfter registering\, you will recei
 ve a confirmation email containing information about joining the meeting.
X-WR-RELCALID:b053f3dd3d15462a8d6b2c6203f2211f
X-WR-TIMEZONE:America/Chicago
BEGIN:VTIMEZONE
TZID:America/Chicago
BEGIN:STANDARD
TZNAME:CST
DTSTART:20241103T020000
TZOFFSETFROM:-0500
TZOFFSETTO:-0600
RDATE:20251102T020000
RDATE:20261101T020000
END:STANDARD
BEGIN:DAYLIGHT
TZNAME:CDT
DTSTART:20250309T020000
TZOFFSETFROM:-0600
TZOFFSETTO:-0500
RDATE:20260308T020000
END:DAYLIGHT
END:VTIMEZONE
BEGIN:VEVENT
UID:bb68b3a7-b3fe-4f32-8f8d-a929a8dddf6b
DTSTAMP:20260420T161840Z
DESCRIPTION:Animal Moves | An Interactive Preschool Class\n\nYou are invite
 d to a Zoom meeting.When: Aug 21\, 2025 09:00 AM Central Time (US and Cana
 da)\n\nRegister in advance for this meeting:\nhttps://us02web.zoom.us/meet
 ing/register/DIlL-FYoRNiD9pvziqjjFQ\n\nAfter registering\, you will receiv
 e a confirmation email containing information about joining the meeting.
DTSTART;TZID=America/Chicago:20250821T090000
DTEND;TZID=America/Chicago:20250821T100000
LOCATION:https://us02web.zoom.us/meeting/register/DIlL-FYoRNiD9pvziqjjFQ
SUMMARY:Animal Moves | An Interactive Preschool Class
END:VEVENT
END:VCALENDAR
