BEGIN:VCALENDAR
VERSION:2.0
PRODID:-//midwestchildcare.org//NONSGML kigkonsult.se iCalcreator 2.30.10//
CALSCALE:GREGORIAN
METHOD:PUBLISH
UID:4a30a20c-5e7d-44c5-8594-d029cf18b906
X-WR-CALDESC:HSI Pediatric First Aid | CPR AED Child/Infant/Adult (2020)\n
 \nClass Number:	\n32963479\n\nClass Type:	\nClassroom Training\n\nDescriptio
 n:	\nHSI Pediatric First Aid | CPR AED Child/Infant/Adult (2020)\n\nLocatio
 n:	\n7701 Pacific St Ste 200\nOmaha\, NE 68114\n\nDate/Time:	\n08/14/2025\, 
 6:00 PM - 8:00 PM\n\nRemaining Seats:	\n99
X-WR-RELCALID:84525a5e8335c31b2a054f575d65387b
X-WR-TIMEZONE:America/Chicago
BEGIN:VTIMEZONE
TZID:America/Chicago
BEGIN:STANDARD
TZNAME:CST
DTSTART:20241103T020000
TZOFFSETFROM:-0500
TZOFFSETTO:-0600
RDATE:20251102T020000
RDATE:20261101T020000
END:STANDARD
BEGIN:DAYLIGHT
TZNAME:CDT
DTSTART:20250309T020000
TZOFFSETFROM:-0600
TZOFFSETTO:-0500
RDATE:20260308T020000
END:DAYLIGHT
END:VTIMEZONE
BEGIN:VEVENT
UID:3c6d7bde-392d-4971-a41e-5e6cf1e97c70
DTSTAMP:20260420T162824Z
DESCRIPTION:HSI Pediatric First Aid | CPR AED Child/Infant/Adult (2020)\n\n
 Class Number:	\n32963479\n\nClass Type:	\nClassroom Training\n\nDescription:
 	\nHSI Pediatric First Aid | CPR AED Child/Infant/Adult (2020)\n\nLocation:
 	\n7701 Pacific St Ste 200\nOmaha\, NE 68114\n\nDate/Time:	\n08/14/2025\, 6:
 00 PM - 8:00 PM\n\nRemaining Seats:	\n99
DTSTART;TZID=America/Chicago:20250814T180000
DTEND;TZID=America/Chicago:20250814T200000
LOCATION:https://otis.osmanager4.com/#/openEnrollment?co=1&cid=4113997
SUMMARY:HSI Pediatric First Aid | CPR AED Child/Infant/Adult (2020)
END:VEVENT
END:VCALENDAR
