BEGIN:VCALENDAR
VERSION:2.0
PRODID:-//midwestchildcare.org//NONSGML kigkonsult.se iCalcreator 2.30.10//
CALSCALE:GREGORIAN
METHOD:PUBLISH
UID:27ab73db-15b9-4854-b54a-e353de6d751b
X-WR-CALDESC:Importance of Heart Health in Children | 1 Hour Webinar\n\nPle
 ase register for the Importance of Heart Health in Children on Aug 11\, 20
 25 1:00 PM CDT at:\n\nhttps://attendee.gotowebinar.com/register/2293437668
 251738464\n\nAfter registering\, you will receive a confirmation email con
 taining information about joining the webinar.\n
X-WR-RELCALID:a7a2d91c07fa084491fd87b403163d2d
X-WR-TIMEZONE:America/Chicago
BEGIN:VTIMEZONE
TZID:America/Chicago
BEGIN:STANDARD
TZNAME:CST
DTSTART:20241103T020000
TZOFFSETFROM:-0500
TZOFFSETTO:-0600
RDATE:20251102T020000
RDATE:20261101T020000
END:STANDARD
BEGIN:DAYLIGHT
TZNAME:CDT
DTSTART:20250309T020000
TZOFFSETFROM:-0600
TZOFFSETTO:-0500
RDATE:20260308T020000
END:DAYLIGHT
END:VTIMEZONE
BEGIN:VEVENT
UID:6823433f-3f26-4cd8-9314-d004754e87ae
DTSTAMP:20260420T163118Z
DESCRIPTION:Importance of Heart Health in Children | 1 Hour Webinar\n\nPlea
 se register for the Importance of Heart Health in Children on Aug 11\, 202
 5 1:00 PM CDT at:\n\nhttps://attendee.gotowebinar.com/register/22934376682
 51738464\n\nAfter registering\, you will receive a confirmation email cont
 aining information about joining the webinar.\n
DTSTART;TZID=America/Chicago:20250811T130000
DTEND;TZID=America/Chicago:20250811T140000
LOCATION:https://attendee.gotowebinar.com/register/2293437668251738464
SUMMARY:Importance of Heart Health in Children | 1 Hour Webinar
END:VEVENT
END:VCALENDAR
