BEGIN:VCALENDAR
VERSION:2.0
PRODID:-//midwestchildcare.org//NONSGML kigkonsult.se iCalcreator 2.30.10//
CALSCALE:GREGORIAN
METHOD:PUBLISH
UID:b53fa4b0-3385-45da-9476-8363292ccbeb
X-WR-CALDESC:The Color Monster | An Interactive Preschool Class\nYou are in
 vited to a Zoom meeting.\nWhen: Aug 7\, 2025 10:00 AM Central Time (US and
  Canada)\n\nRegister in advance for this meeting:\nhttps://us02web.zoom.us
 /meeting/register/_NJ3NJuvSzi3dLqoitvHHQ\n\nAfter registering\, you will r
 eceive a confirmation email containing information about joining the meeti
 ng.
X-WR-RELCALID:79dd3cd69834c7edd3075598638d05eb
X-WR-TIMEZONE:America/Chicago
BEGIN:VTIMEZONE
TZID:America/Chicago
BEGIN:STANDARD
TZNAME:CST
DTSTART:20241103T020000
TZOFFSETFROM:-0500
TZOFFSETTO:-0600
RDATE:20251102T020000
RDATE:20261101T020000
END:STANDARD
BEGIN:DAYLIGHT
TZNAME:CDT
DTSTART:20250309T020000
TZOFFSETFROM:-0600
TZOFFSETTO:-0500
RDATE:20260308T020000
END:DAYLIGHT
END:VTIMEZONE
BEGIN:VEVENT
UID:adb696fd-58c1-47b8-b5ca-af6b23f52c2e
DTSTAMP:20260420T162237Z
DESCRIPTION:The Color Monster | An Interactive Preschool Class\nYou are inv
 ited to a Zoom meeting.\nWhen: Aug 7\, 2025 10:00 AM Central Time (US and 
 Canada)\n\nRegister in advance for this meeting:\nhttps://us02web.zoom.us/
 meeting/register/_NJ3NJuvSzi3dLqoitvHHQ\n\nAfter registering\, you will re
 ceive a confirmation email containing information about joining the meetin
 g.
DTSTART;TZID=America/Chicago:20250807T100000
DTEND;TZID=America/Chicago:20250807T110000
LOCATION:https://us02web.zoom.us/meeting/register/_NJ3NJuvSzi3dLqoitvHHQ
SUMMARY:The Color Monster | An Interactive Preschool Class
END:VEVENT
END:VCALENDAR
