BEGIN:VCALENDAR
VERSION:2.0
PRODID:-//midwestchildcare.org//NONSGML kigkonsult.se iCalcreator 2.30.10//
CALSCALE:GREGORIAN
METHOD:PUBLISH
UID:84112d45-f963-41bc-82cf-09cc9f673eb8
X-WR-CALDESC:The Color Monster | An Interactive Preschool Class\n\nYou are 
 invited to a Zoom meeting.\nWhen: Aug 7\, 2025 09:30 AM Central Time (US a
 nd Canada)\n\nRegister in advance for this meeting:\nhttps://us02web.zoom.
 us/meeting/register/fChtoUZbSpG_YGUO-_5Iow\n\nAfter registering\, you will
  receive a confirmation email containing information about joining the mee
 ting.
X-WR-RELCALID:87a9bf18030bc06b092d320d0d1f826d
X-WR-TIMEZONE:America/Chicago
BEGIN:VTIMEZONE
TZID:America/Chicago
BEGIN:STANDARD
TZNAME:CST
DTSTART:20241103T020000
TZOFFSETFROM:-0500
TZOFFSETTO:-0600
RDATE:20251102T020000
RDATE:20261101T020000
END:STANDARD
BEGIN:DAYLIGHT
TZNAME:CDT
DTSTART:20250309T020000
TZOFFSETFROM:-0600
TZOFFSETTO:-0500
RDATE:20260308T020000
END:DAYLIGHT
END:VTIMEZONE
BEGIN:VEVENT
UID:32ab3551-0e6e-48ae-baf4-8035982d6912
DTSTAMP:20260421T004450Z
DESCRIPTION:The Color Monster | An Interactive Preschool Class\n\nYou are i
 nvited to a Zoom meeting.\nWhen: Aug 7\, 2025 09:30 AM Central Time (US an
 d Canada)\n\nRegister in advance for this meeting:\nhttps://us02web.zoom.u
 s/meeting/register/fChtoUZbSpG_YGUO-_5Iow\n\nAfter registering\, you will 
 receive a confirmation email containing information about joining the meet
 ing.
DTSTART;TZID=America/Chicago:20250807T093000
DTEND;TZID=America/Chicago:20250807T103000
LOCATION:https://us02web.zoom.us/meeting/register/fChtoUZbSpG_YGUO-_5Iow
SUMMARY:The Color Monster | An Interactive Preschool Class
END:VEVENT
END:VCALENDAR
