BEGIN:VCALENDAR
VERSION:2.0
PRODID:-//midwestchildcare.org//NONSGML kigkonsult.se iCalcreator 2.30.10//
CALSCALE:GREGORIAN
METHOD:PUBLISH
UID:f844b640-406b-46c8-bc6f-34728cbe6b12
X-WR-CALDESC:The Black and White Factory | An Interactive Preschool Class\n
 \nYou are invited to a Zoom meeting.When: Jul 31\, 2025 10:00 AM Central T
 ime (US and Canada)\n\nRegister in advance for this meeting:\nhttps://us02
 web.zoom.us/meeting/register/RHm6PCBCRzqM2RTDs6Npkw\n\nAfter registering\,
  you will receive a confirmation email containing information about joinin
 g the meeting.
X-WR-RELCALID:c4dd4cb10f1eb03f05d83a9a1f6bbd01
X-WR-TIMEZONE:America/Chicago
BEGIN:VTIMEZONE
TZID:America/Chicago
BEGIN:STANDARD
TZNAME:CST
DTSTART:20241103T020000
TZOFFSETFROM:-0500
TZOFFSETTO:-0600
RDATE:20251102T020000
RDATE:20261101T020000
END:STANDARD
BEGIN:DAYLIGHT
TZNAME:CDT
DTSTART:20250309T020000
TZOFFSETFROM:-0600
TZOFFSETTO:-0500
RDATE:20260308T020000
END:DAYLIGHT
END:VTIMEZONE
BEGIN:VEVENT
UID:2a0527d9-8ce4-4cc8-8dd7-58531511baf8
DTSTAMP:20260420T181114Z
DESCRIPTION:The Black and White Factory | An Interactive Preschool Class\n
 \nYou are invited to a Zoom meeting.When: Jul 31\, 2025 10:00 AM Central T
 ime (US and Canada)\n\nRegister in advance for this meeting:\nhttps://us02
 web.zoom.us/meeting/register/RHm6PCBCRzqM2RTDs6Npkw\n\nAfter registering\,
  you will receive a confirmation email containing information about joinin
 g the meeting.
DTSTART;TZID=America/Chicago:20250731T100000
DTEND;TZID=America/Chicago:20250731T110000
LOCATION:https://us02web.zoom.us/meeting/register/RHm6PCBCRzqM2RTDs6Npkw
SUMMARY:The Black and White Factory | An Interactive Preschool Class
END:VEVENT
END:VCALENDAR
