BEGIN:VCALENDAR
VERSION:2.0
PRODID:-//midwestchildcare.org//NONSGML kigkonsult.se iCalcreator 2.30.10//
CALSCALE:GREGORIAN
METHOD:PUBLISH
UID:2c654a62-7890-44fe-89d5-cd0841f430d5
X-WR-CALDESC:The Black and White Factory | An Interactive Preschool Class\n
 \nYou are invited to a Zoom meeting.\nWhen: Jul 31\, 2025 09:30 AM Central
  Time (US and Canada)\n\nRegister in advance for this meeting:\nhttps://us
 02web.zoom.us/meeting/register/9g9uTp0lS_q2kSlLEctAag\n\nAfter registering
 \, you will receive a confirmation email containing information about join
 ing the meeting.
X-WR-RELCALID:5dd410a57c142eb96dd662361305a6cc
X-WR-TIMEZONE:America/Chicago
BEGIN:VTIMEZONE
TZID:America/Chicago
BEGIN:STANDARD
TZNAME:CST
DTSTART:20241103T020000
TZOFFSETFROM:-0500
TZOFFSETTO:-0600
RDATE:20251102T020000
RDATE:20261101T020000
END:STANDARD
BEGIN:DAYLIGHT
TZNAME:CDT
DTSTART:20250309T020000
TZOFFSETFROM:-0600
TZOFFSETTO:-0500
RDATE:20260308T020000
END:DAYLIGHT
END:VTIMEZONE
BEGIN:VEVENT
UID:4aae105f-1032-4a10-94ca-0eaa15d15fc5
DTSTAMP:20260420T181626Z
DESCRIPTION:The Black and White Factory | An Interactive Preschool Class\n
 \nYou are invited to a Zoom meeting.\nWhen: Jul 31\, 2025 09:30 AM Central
  Time (US and Canada)\n\nRegister in advance for this meeting:\nhttps://us
 02web.zoom.us/meeting/register/9g9uTp0lS_q2kSlLEctAag\n\nAfter registering
 \, you will receive a confirmation email containing information about join
 ing the meeting.
DTSTART;TZID=America/Chicago:20250731T093000
DTEND;TZID=America/Chicago:20250731T103000
LOCATION:https://us02web.zoom.us/meeting/register/9g9uTp0lS_q2kSlLEctAag
SUMMARY:The Black and White Factory | An Interactive Preschool Class
END:VEVENT
END:VCALENDAR
