BEGIN:VCALENDAR
VERSION:2.0
PRODID:-//midwestchildcare.org//NONSGML kigkonsult.se iCalcreator 2.30.10//
CALSCALE:GREGORIAN
METHOD:PUBLISH
UID:a7d935f7-9a1d-4176-a1c5-88a5affb014c
X-WR-CALDESC:The Black and White Factory | An Interactive Preschool Class\n
 \nYou are invited to a Zoom meeting.When: Jul 31\, 2025 09:00 AM Central T
 ime (US and Canada)\n\nRegister in advance for this meeting:\nhttps://us02
 web.zoom.us/meeting/register/Zwnt0xFZQ2OczwLezM1Pyg\n\nAfter registering\,
  you will receive a confirmation email containing information about joinin
 g the meeting.
X-WR-RELCALID:263e1aa3f2c93966cd4d2fb8de8e39f7
X-WR-TIMEZONE:America/Chicago
BEGIN:VTIMEZONE
TZID:America/Chicago
BEGIN:STANDARD
TZNAME:CST
DTSTART:20241103T020000
TZOFFSETFROM:-0500
TZOFFSETTO:-0600
RDATE:20251102T020000
RDATE:20261101T020000
END:STANDARD
BEGIN:DAYLIGHT
TZNAME:CDT
DTSTART:20250309T020000
TZOFFSETFROM:-0600
TZOFFSETTO:-0500
RDATE:20260308T020000
END:DAYLIGHT
END:VTIMEZONE
BEGIN:VEVENT
UID:52566357-f17d-46ed-b8de-fc021e1a2109
DTSTAMP:20260420T181026Z
DESCRIPTION:The Black and White Factory | An Interactive Preschool Class\n
 \nYou are invited to a Zoom meeting.When: Jul 31\, 2025 09:00 AM Central T
 ime (US and Canada)\n\nRegister in advance for this meeting:\nhttps://us02
 web.zoom.us/meeting/register/Zwnt0xFZQ2OczwLezM1Pyg\n\nAfter registering\,
  you will receive a confirmation email containing information about joinin
 g the meeting.
DTSTART;TZID=America/Chicago:20250731T090000
DTEND;TZID=America/Chicago:20250731T100000
LOCATION:https://us02web.zoom.us/meeting/register/Zwnt0xFZQ2OczwLezM1Pyg
SUMMARY:The Black and White Factory | An Interactive Preschool Class
END:VEVENT
END:VCALENDAR
