BEGIN:VCALENDAR
VERSION:2.0
PRODID:-//midwestchildcare.org//NONSGML kigkonsult.se iCalcreator 2.30.10//
CALSCALE:GREGORIAN
METHOD:PUBLISH
UID:e21f795d-965b-4983-862c-cef4d67aa195
X-WR-CALDESC:Penelope Rex and the Problem with Pets | An Interactive Presch
 ool Class\n\nYou are invited to a Zoom meeting.\nWhen: Jul 17\, 2025 09:00
  AM Central Time (US and Canada)\n\nRegister in advance for this meeting:
 \nhttps://us02web.zoom.us/meeting/register/kw9NdPrcTTy1X3JE9KJFrg\n\nAfter
  registering\, you will receive a confirmation email containing informatio
 n about joining the meeting.
X-WR-RELCALID:e4e95231606a85248d7621680a2a3f87
X-WR-TIMEZONE:America/Chicago
BEGIN:VTIMEZONE
TZID:America/Chicago
BEGIN:STANDARD
TZNAME:CST
DTSTART:20241103T020000
TZOFFSETFROM:-0500
TZOFFSETTO:-0600
RDATE:20251102T020000
RDATE:20261101T020000
END:STANDARD
BEGIN:DAYLIGHT
TZNAME:CDT
DTSTART:20250309T020000
TZOFFSETFROM:-0600
TZOFFSETTO:-0500
RDATE:20260308T020000
END:DAYLIGHT
END:VTIMEZONE
BEGIN:VEVENT
UID:1bf0b76f-6a06-4ee4-9de1-44e9c22d750c
DTSTAMP:20260420T180754Z
DESCRIPTION:Penelope Rex and the Problem with Pets | An Interactive Prescho
 ol Class\n\nYou are invited to a Zoom meeting.\nWhen: Jul 17\, 2025 09:00 
 AM Central Time (US and Canada)\n\nRegister in advance for this meeting:\n
 https://us02web.zoom.us/meeting/register/kw9NdPrcTTy1X3JE9KJFrg\n\nAfter r
 egistering\, you will receive a confirmation email containing information 
 about joining the meeting.
DTSTART;TZID=America/Chicago:20250717T100000
DTEND;TZID=America/Chicago:20250717T110000
LOCATION:https://us02web.zoom.us/meeting/register/kw9NdPrcTTy1X3JE9KJFrg
SUMMARY:Penelope Rex and the Problem with Pets | An Interactive Preschool C
 lass
END:VEVENT
END:VCALENDAR
