BEGIN:VCALENDAR
VERSION:2.0
PRODID:-//midwestchildcare.org//NONSGML kigkonsult.se iCalcreator 2.30.10//
CALSCALE:GREGORIAN
METHOD:PUBLISH
UID:ea33a7ca-1378-4735-8378-d458f49c9855
X-WR-CALDESC:Class Number:	\n32886792\n\nClass Type:	\nClassroom Training\n\n
 Description:	\nHSI Pediatric First Aid | CPR AED Child/Infant/Adult (2020)
 \n\nLocation:	\n7701 Pacific St Ste 200\nOmaha\, NE 68114\n\nDate/Time:	\n07
 /15/2025\, 6:00 PM - 10:00 PM\n\nRemaining Seats:	\n99\n\n*Zoom* for Class 
 7/15 (6 to 10 PM) & In-Person Hands On by Appt (takes 30 mins)\n\nhttps://
 otis.osmanager4.com/#/openEnrollment?co=1&cid=4304675
X-WR-RELCALID:6f21784e92023071c7f65c4b8488516b
X-WR-TIMEZONE:America/Chicago
BEGIN:VTIMEZONE
TZID:America/Chicago
BEGIN:STANDARD
TZNAME:CST
DTSTART:20241103T020000
TZOFFSETFROM:-0500
TZOFFSETTO:-0600
RDATE:20251102T020000
RDATE:20261101T020000
END:STANDARD
BEGIN:DAYLIGHT
TZNAME:CDT
DTSTART:20250309T020000
TZOFFSETFROM:-0600
TZOFFSETTO:-0500
RDATE:20260308T020000
END:DAYLIGHT
END:VTIMEZONE
BEGIN:VEVENT
UID:bcc4d374-d13f-4258-a340-15208a25883d
DTSTAMP:20260420T181248Z
DESCRIPTION:Class Number:	\n32886792\n\nClass Type:	\nClassroom Training\n\nD
 escription:	\nHSI Pediatric First Aid | CPR AED Child/Infant/Adult (2020)\n
 \nLocation:	\n7701 Pacific St Ste 200\nOmaha\, NE 68114\n\nDate/Time:	\n07/1
 5/2025\, 6:00 PM - 10:00 PM\n\nRemaining Seats:	\n99\n\n*Zoom* for Class 7/
 15 (6 to 10 PM) & In-Person Hands On by Appt (takes 30 mins)\n\nhttps://ot
 is.osmanager4.com/#/openEnrollment?co=1&cid=4304675
DTSTART;TZID=America/Chicago:20250715T180000
DTEND;TZID=America/Chicago:20250715T220000
LOCATION:https://otis.osmanager4.com/#/openEnrollment?co=1&cid=4304675
SUMMARY:HSI Pediatric First Aid | CPR AED Child/Infant/Adult (2020) (IN-PER
 SON CLASS)
END:VEVENT
END:VCALENDAR
