BEGIN:VCALENDAR
VERSION:2.0
PRODID:-//midwestchildcare.org//NONSGML kigkonsult.se iCalcreator 2.30.10//
CALSCALE:GREGORIAN
METHOD:PUBLISH
UID:a3c34cce-a50f-41c0-be27-d2495c156546
X-WR-CALDESC:Can You Dance Like a Jellyfish? | Interactive Preschool Class
 \n\nYou are invited to a Zoom meeting.\nWhen: Jul 10\, 2025 10:00 AM Centr
 al Time (US and Canada)\n\nRegister in advance for this meeting:\nhttps://
 us02web.zoom.us/meeting/register/VeZXJ4J6S6avsJ44JmOAnQ\n\nAfter registeri
 ng\, you will receive a confirmation email containing information about jo
 ining the meeting.
X-WR-RELCALID:91fc59c87d7b0ff3779901a1e9151d84
X-WR-TIMEZONE:America/Chicago
BEGIN:VTIMEZONE
TZID:America/Chicago
BEGIN:STANDARD
TZNAME:CST
DTSTART:20241103T020000
TZOFFSETFROM:-0500
TZOFFSETTO:-0600
RDATE:20251102T020000
RDATE:20261101T020000
END:STANDARD
BEGIN:DAYLIGHT
TZNAME:CDT
DTSTART:20250309T020000
TZOFFSETFROM:-0600
TZOFFSETTO:-0500
RDATE:20260308T020000
END:DAYLIGHT
END:VTIMEZONE
BEGIN:VEVENT
UID:102d6824-cada-4144-b9d8-83bd4eb8ad9b
DTSTAMP:20260420T182138Z
DESCRIPTION:Can You Dance Like a Jellyfish? | Interactive Preschool Class\n
 \nYou are invited to a Zoom meeting.\nWhen: Jul 10\, 2025 10:00 AM Central
  Time (US and Canada)\n\nRegister in advance for this meeting:\nhttps://us
 02web.zoom.us/meeting/register/VeZXJ4J6S6avsJ44JmOAnQ\n\nAfter registering
 \, you will receive a confirmation email containing information about join
 ing the meeting.
DTSTART;TZID=America/Chicago:20250710T110000
DTEND;TZID=America/Chicago:20250710T120000
LOCATION:https://us02web.zoom.us/meeting/register/VeZXJ4J6S6avsJ44JmOAnQ
SUMMARY:Can You Dance Like a Jellyfish? | Interactive Preschool Class
END:VEVENT
END:VCALENDAR
