BEGIN:VCALENDAR
VERSION:2.0
PRODID:-//midwestchildcare.org//NONSGML kigkonsult.se iCalcreator 2.30.10//
CALSCALE:GREGORIAN
METHOD:PUBLISH
UID:f0f7544e-f1ea-4efb-b7c3-b106a5fce8f5
X-WR-CALDESC:Can You Dance Like a Jellyfish? | Interactive Preschool Class
 \n\nYou are invited to a Zoom meeting.When: Jul 10\, 2025 09:30 AM Central
  Time (US and Canada)\n\nRegister in advance for this meeting:\nhttps://us
 02web.zoom.us/meeting/register/SxCK_LyjTjKPj37xo4F0aw\n\nAfter registering
 \, you will receive a confirmation email containing information about join
 ing the meeting.
X-WR-RELCALID:fae2ca4eea50aa0c62572a4ed6e94881
X-WR-TIMEZONE:America/Chicago
BEGIN:VTIMEZONE
TZID:America/Chicago
BEGIN:STANDARD
TZNAME:CST
DTSTART:20241103T020000
TZOFFSETFROM:-0500
TZOFFSETTO:-0600
RDATE:20251102T020000
RDATE:20261101T020000
END:STANDARD
BEGIN:DAYLIGHT
TZNAME:CDT
DTSTART:20250309T020000
TZOFFSETFROM:-0600
TZOFFSETTO:-0500
RDATE:20260308T020000
END:DAYLIGHT
END:VTIMEZONE
BEGIN:VEVENT
UID:1c5c5f07-ca41-46e1-b194-fa1929625d0f
DTSTAMP:20260420T181044Z
DESCRIPTION:Can You Dance Like a Jellyfish? | Interactive Preschool Class\n
 \nYou are invited to a Zoom meeting.When: Jul 10\, 2025 09:30 AM Central T
 ime (US and Canada)\n\nRegister in advance for this meeting:\nhttps://us02
 web.zoom.us/meeting/register/SxCK_LyjTjKPj37xo4F0aw\n\nAfter registering\,
  you will receive a confirmation email containing information about joinin
 g the meeting.
DTSTART;TZID=America/Chicago:20250710T093000
DTEND;TZID=America/Chicago:20250710T103000
LOCATION:https://us02web.zoom.us/meeting/register/SxCK_LyjTjKPj37xo4F0aw
SUMMARY:Can You Dance Like a Jellyfish? | Interactive Preschool Class
END:VEVENT
END:VCALENDAR
