BEGIN:VCALENDAR
VERSION:2.0
PRODID:-//midwestchildcare.org//NONSGML kigkonsult.se iCalcreator 2.30.10//
CALSCALE:GREGORIAN
METHOD:PUBLISH
UID:fdd3433f-6e01-4b40-9d57-1771b464004b
X-WR-CALDESC:Can You Dance Like a Jellyfish? | Interactive Preschool Class
 \n\nYou are invited to a Zoom meeting.\nWhen: Jul 10\, 2025 09:00 AM Centr
 al Time (US and Canada)\n\nRegister in advance for this meeting:\nhttps://
 us02web.zoom.us/meeting/register/u5gNDL31Sd2BHpLBSo1BBw\n\nAfter registeri
 ng\, you will receive a confirmation email containing information about jo
 ining the meeting.
X-WR-RELCALID:1a2f4b0778652656024bf91f95b0e004
X-WR-TIMEZONE:America/Chicago
BEGIN:VTIMEZONE
TZID:America/Chicago
BEGIN:STANDARD
TZNAME:CST
DTSTART:20241103T020000
TZOFFSETFROM:-0500
TZOFFSETTO:-0600
RDATE:20251102T020000
RDATE:20261101T020000
END:STANDARD
BEGIN:DAYLIGHT
TZNAME:CDT
DTSTART:20250309T020000
TZOFFSETFROM:-0600
TZOFFSETTO:-0500
RDATE:20260308T020000
END:DAYLIGHT
END:VTIMEZONE
BEGIN:VEVENT
UID:9132a145-87fd-4f39-982c-6635f6ec1e6b
DTSTAMP:20260420T182221Z
DESCRIPTION:Can You Dance Like a Jellyfish? | Interactive Preschool Class\n
 \nYou are invited to a Zoom meeting.\nWhen: Jul 10\, 2025 09:00 AM Central
  Time (US and Canada)\n\nRegister in advance for this meeting:\nhttps://us
 02web.zoom.us/meeting/register/u5gNDL31Sd2BHpLBSo1BBw\n\nAfter registering
 \, you will receive a confirmation email containing information about join
 ing the meeting.
DTSTART;TZID=America/Chicago:20250710T090000
DTEND;TZID=America/Chicago:20250710T100000
LOCATION:https://us02web.zoom.us/meeting/register/u5gNDL31Sd2BHpLBSo1BBw
SUMMARY:Can You Dance Like a Jellyfish? | Interactive Preschool Class
END:VEVENT
END:VCALENDAR
