BEGIN:VCALENDAR
VERSION:2.0
PRODID:-//midwestchildcare.org//NONSGML kigkonsult.se iCalcreator 2.30.10//
CALSCALE:GREGORIAN
METHOD:PUBLISH
UID:1e267c66-3af3-436f-b766-37ea21fd146c
X-WR-CALDESC:On the Fourth of July | In an Interactive Preschool Class\n\nY
 ou are invited to a Zoom meeting.\nWhen: Jul 3\, 2025 10:00 AM Central Tim
 e (US and Canada)\n\nRegister in advance for this meeting:\nhttps://us02we
 b.zoom.us/meeting/register/CbiDTdRrQeii4dzeFmOMcg\n\nAfter registering\, y
 ou will receive a confirmation email containing information about joining 
 the meeting.\n
X-WR-RELCALID:0ffa4a765a5c7d12d88b071779289c9d
X-WR-TIMEZONE:America/Chicago
BEGIN:VTIMEZONE
TZID:America/Chicago
BEGIN:STANDARD
TZNAME:CST
DTSTART:20241103T020000
TZOFFSETFROM:-0500
TZOFFSETTO:-0600
RDATE:20251102T020000
RDATE:20261101T020000
END:STANDARD
BEGIN:DAYLIGHT
TZNAME:CDT
DTSTART:20250309T020000
TZOFFSETFROM:-0600
TZOFFSETTO:-0500
RDATE:20260308T020000
END:DAYLIGHT
END:VTIMEZONE
BEGIN:VEVENT
UID:218f00b3-bdaf-484d-83fc-14e84477c2e2
DTSTAMP:20260420T181136Z
DESCRIPTION:On the Fourth of July | In an Interactive Preschool Class\n\nYo
 u are invited to a Zoom meeting.\nWhen: Jul 3\, 2025 10:00 AM Central Time
  (US and Canada)\n\nRegister in advance for this meeting:\nhttps://us02web
 .zoom.us/meeting/register/CbiDTdRrQeii4dzeFmOMcg\n\nAfter registering\, yo
 u will receive a confirmation email containing information about joining t
 he meeting.\n
DTSTART;TZID=America/Chicago:20250703T100000
DTEND;TZID=America/Chicago:20250703T110000
LOCATION:https://us02web.zoom.us/meeting/register/CbiDTdRrQeii4dzeFmOMcg
SUMMARY:On the Fourth of July | In an Interactive Preschool Class
END:VEVENT
END:VCALENDAR
