BEGIN:VCALENDAR
VERSION:2.0
PRODID:-//midwestchildcare.org//NONSGML kigkonsult.se iCalcreator 2.30.10//
CALSCALE:GREGORIAN
METHOD:PUBLISH
UID:5e84c71f-51fb-40de-8774-374f07457019
X-WR-CALDESC:On the Fourth of July | In an Interactive Preschool Class\n\nY
 ou are invited to a Zoom meeting.When: Jul 3\, 2025 09:30 AM Central Time 
 (US and Canada)\n\nRegister in advance for this meeting:\nhttps://us02web.
 zoom.us/meeting/register/xpUtbPhESv2KIxisIDtvFg\n\nAfter registering\, you
  will receive a confirmation email containing information about joining th
 e meeting.
X-WR-RELCALID:d456efe2ec9024c07f0e31fb6c930773
X-WR-TIMEZONE:America/Chicago
BEGIN:VTIMEZONE
TZID:America/Chicago
BEGIN:STANDARD
TZNAME:CST
DTSTART:20241103T020000
TZOFFSETFROM:-0500
TZOFFSETTO:-0600
RDATE:20251102T020000
RDATE:20261101T020000
END:STANDARD
BEGIN:DAYLIGHT
TZNAME:CDT
DTSTART:20250309T020000
TZOFFSETFROM:-0600
TZOFFSETTO:-0500
RDATE:20260308T020000
END:DAYLIGHT
END:VTIMEZONE
BEGIN:VEVENT
UID:cff991e3-4843-4291-a9cf-9ff03207ff7a
DTSTAMP:20260420T184837Z
DESCRIPTION:On the Fourth of July | In an Interactive Preschool Class\n\nYo
 u are invited to a Zoom meeting.When: Jul 3\, 2025 09:30 AM Central Time (
 US and Canada)\n\nRegister in advance for this meeting:\nhttps://us02web.z
 oom.us/meeting/register/xpUtbPhESv2KIxisIDtvFg\n\nAfter registering\, you 
 will receive a confirmation email containing information about joining the
  meeting.
DTSTART;TZID=America/Chicago:20250703T093000
DTEND;TZID=America/Chicago:20250703T103000
LOCATION:https://us02web.zoom.us/meeting/register/xpUtbPhESv2KIxisIDtvFg
SUMMARY:On the Fourth of July | In an Interactive Preschool Class
END:VEVENT
END:VCALENDAR
