BEGIN:VCALENDAR
VERSION:2.0
PRODID:-//midwestchildcare.org//NONSGML kigkonsult.se iCalcreator 2.30.10//
CALSCALE:GREGORIAN
METHOD:PUBLISH
UID:f07e7cf4-a654-4acb-8bc5-8e25745d3f55
X-WR-CALDESC:Penelope Rex and the Problem with Pets | An Interactive Presch
 ool Class\n\nYou are invited to a Zoom meeting.\nWhen: Jul 17\, 2025 10:00
  AM Central Time (US and Canada)\n\nRegister in advance for this meeting:
 \nhttps://us02web.zoom.us/meeting/register/j7FG_09jQzyBUmBezzRMqg\n\nAfter
  registering\, you will receive a confirmation email containing informatio
 n about joining the meeting.
X-WR-RELCALID:644d84c87547ac80cee4db668f76ef0c
X-WR-TIMEZONE:America/Chicago
BEGIN:VTIMEZONE
TZID:America/Chicago
BEGIN:STANDARD
TZNAME:CST
DTSTART:20241103T020000
TZOFFSETFROM:-0500
TZOFFSETTO:-0600
RDATE:20251102T020000
RDATE:20261101T020000
END:STANDARD
BEGIN:DAYLIGHT
TZNAME:CDT
DTSTART:20250309T020000
TZOFFSETFROM:-0600
TZOFFSETTO:-0500
RDATE:20260308T020000
END:DAYLIGHT
END:VTIMEZONE
BEGIN:VEVENT
UID:2b367c37-8f22-45e7-a822-ba1c163942ec
DTSTAMP:20260420T180502Z
DESCRIPTION:Penelope Rex and the Problem with Pets | An Interactive Prescho
 ol Class\n\nYou are invited to a Zoom meeting.\nWhen: Jul 17\, 2025 10:00 
 AM Central Time (US and Canada)\n\nRegister in advance for this meeting:\n
 https://us02web.zoom.us/meeting/register/j7FG_09jQzyBUmBezzRMqg\n\nAfter r
 egistering\, you will receive a confirmation email containing information 
 about joining the meeting.
DTSTART;TZID=America/Chicago:20250701T213000
DTEND;TZID=America/Chicago:20250701T223000
LOCATION:https://us02web.zoom.us/meeting/register/j7FG_09jQzyBUmBezzRMqg
SUMMARY:Penelope Rex and the Problem with Pets | An Interactive Preschool C
 lass
END:VEVENT
END:VCALENDAR
