BEGIN:VCALENDAR
VERSION:2.0
PRODID:-//midwestchildcare.org//NONSGML kigkonsult.se iCalcreator 2.30.10//
CALSCALE:GREGORIAN
METHOD:PUBLISH
UID:4a46ef1c-490a-4493-9d1b-7df87219b16f
X-WR-CALDESC:Fruits and Veggies:Benefits & Ideas to Increase Intake | In-Pe
 rson Training\n\nPlease register for Fruits and Veggies:Benefits & Ideas t
 o Increase Intake IN-PERSON 4-HOUR TRAINING on Jun 28\, 2025 1:00 PM CDT a
 t:\n\nhttps://attendee.gotowebinar.com/register/3886080259293717338\n\nAft
 er registering\, you will receive a confirmation email containing informat
 ion about joining the webinar.
X-WR-RELCALID:5104c6c9161d0624997da3c8afc3af52
X-WR-TIMEZONE:America/Chicago
BEGIN:VTIMEZONE
TZID:America/Chicago
BEGIN:STANDARD
TZNAME:CST
DTSTART:20241103T020000
TZOFFSETFROM:-0500
TZOFFSETTO:-0600
RDATE:20251102T020000
RDATE:20261101T020000
END:STANDARD
BEGIN:DAYLIGHT
TZNAME:CDT
DTSTART:20250309T020000
TZOFFSETFROM:-0600
TZOFFSETTO:-0500
RDATE:20260308T020000
END:DAYLIGHT
END:VTIMEZONE
BEGIN:VEVENT
UID:fe8be707-ba09-42fa-83b0-28e761ff3389
DTSTAMP:20260420T200301Z
DESCRIPTION:Fruits and Veggies:Benefits & Ideas to Increase Intake | In-Per
 son Training\n\nPlease register for Fruits and Veggies:Benefits & Ideas to
  Increase Intake IN-PERSON 4-HOUR TRAINING on Jun 28\, 2025 1:00 PM CDT at
 :\n\nhttps://attendee.gotowebinar.com/register/3886080259293717338\n\nAfte
 r registering\, you will receive a confirmation email containing informati
 on about joining the webinar.
DTSTART;TZID=America/Chicago:20250629T090000
DTEND;TZID=America/Chicago:20250629T130000
LOCATION:https://attendee.gotowebinar.com/register/3886080259293717338
SUMMARY:Fruits and Veggies: Benefits & Ideas to Increase Intake | In-Person
  Training
END:VEVENT
END:VCALENDAR
