BEGIN:VCALENDAR
VERSION:2.0
PRODID:-//midwestchildcare.org//NONSGML kigkonsult.se iCalcreator 2.30.10//
CALSCALE:GREGORIAN
METHOD:PUBLISH
UID:cab8afdc-7ad6-4d3f-af0c-5a8424081f62
X-WR-CALDESC:Zoogie Boogie Fever | An Interactive Preschool Class\n\nYou ar
 e invited to a Zoom meeting.When: Jun 26\, 2025 10:00 AM Central Time (US 
 and Canada)\n\nRegister in advance for this meeting:\nhttps://us02web.zoom
 .us/meeting/register/vOU8t55yQ4O6mTDyxeHcOg\n\nAfter registering\, you wil
 l receive a confirmation email containing information about joining the me
 eting.
X-WR-RELCALID:50cea954aa137c46a20660ad83f711ee
X-WR-TIMEZONE:America/Chicago
BEGIN:VTIMEZONE
TZID:America/Chicago
BEGIN:STANDARD
TZNAME:CST
DTSTART:20241103T020000
TZOFFSETFROM:-0500
TZOFFSETTO:-0600
RDATE:20251102T020000
RDATE:20261101T020000
END:STANDARD
BEGIN:DAYLIGHT
TZNAME:CDT
DTSTART:20250309T020000
TZOFFSETFROM:-0600
TZOFFSETTO:-0500
RDATE:20260308T020000
END:DAYLIGHT
END:VTIMEZONE
BEGIN:VEVENT
UID:6b994efe-b21b-45fe-82a8-edec9b601d68
DTSTAMP:20260420T195659Z
DESCRIPTION:Zoogie Boogie Fever | An Interactive Preschool Class\n\nYou are
  invited to a Zoom meeting.When: Jun 26\, 2025 10:00 AM Central Time (US a
 nd Canada)\n\nRegister in advance for this meeting:\nhttps://us02web.zoom.
 us/meeting/register/vOU8t55yQ4O6mTDyxeHcOg\n\nAfter registering\, you will
  receive a confirmation email containing information about joining the mee
 ting.
DTSTART;TZID=America/Chicago:20250626T100000
DTEND;TZID=America/Chicago:20250626T103000
LOCATION:https://us02web.zoom.us/meeting/register/vOU8t55yQ4O6mTDyxeHcOg
SUMMARY:Zoogie Boogie Fever | An Interactive Preschool Class
END:VEVENT
END:VCALENDAR
