BEGIN:VCALENDAR
VERSION:2.0
PRODID:-//midwestchildcare.org//NONSGML kigkonsult.se iCalcreator 2.30.10//
CALSCALE:GREGORIAN
METHOD:PUBLISH
UID:1bd99e45-6448-40ca-94ec-1dd181ecc51b
X-WR-CALDESC:Zoogie Boogie Fever | An Interactive Preschool Class\n\nYou ar
 e invited to a Zoom meeting.When: Jun 26\, 2025 09:30 AM Central Time (US 
 and Canada)\n\nRegister in advance for this meeting:\nhttps://us02web.zoom
 .us/meeting/register/4AwIPaEMSwejXxxaH4omyg\n\nAfter registering\, you wil
 l receive a confirmation email containing information about joining the me
 eting.
X-WR-RELCALID:07f5da2d4411cfb3184f7e9d9cfbf50c
X-WR-TIMEZONE:America/Chicago
BEGIN:VTIMEZONE
TZID:America/Chicago
BEGIN:STANDARD
TZNAME:CST
DTSTART:20241103T020000
TZOFFSETFROM:-0500
TZOFFSETTO:-0600
RDATE:20251102T020000
RDATE:20261101T020000
END:STANDARD
BEGIN:DAYLIGHT
TZNAME:CDT
DTSTART:20250309T020000
TZOFFSETFROM:-0600
TZOFFSETTO:-0500
RDATE:20260308T020000
END:DAYLIGHT
END:VTIMEZONE
BEGIN:VEVENT
UID:d8620679-f868-4a9b-a8e7-356665819e78
DTSTAMP:20260420T200434Z
DESCRIPTION:Zoogie Boogie Fever | An Interactive Preschool Class\n\nYou are
  invited to a Zoom meeting.When: Jun 26\, 2025 09:30 AM Central Time (US a
 nd Canada)\n\nRegister in advance for this meeting:\nhttps://us02web.zoom.
 us/meeting/register/4AwIPaEMSwejXxxaH4omyg\n\nAfter registering\, you will
  receive a confirmation email containing information about joining the mee
 ting.
DTSTART;TZID=America/Chicago:20250626T093000
DTEND;TZID=America/Chicago:20250626T100000
LOCATION:https://us02web.zoom.us/meeting/register/4AwIPaEMSwejXxxaH4omyg
SUMMARY:Zoogie Boogie Fever | An Interactive Preschool Class
END:VEVENT
END:VCALENDAR
