BEGIN:VCALENDAR
VERSION:2.0
PRODID:-//midwestchildcare.org//NONSGML kigkonsult.se iCalcreator 2.30.10//
CALSCALE:GREGORIAN
METHOD:PUBLISH
UID:b2a63240-ef8e-483b-8152-1e3dd116e5ac
X-WR-CALDESC:HSI Pediatric First Aid | CPR AED Child/Infant/Adult (2020) (I
 N-PERSON CLASS)\n\nIn-Person Class (9 AM to 1 PM) at Midwest Childcare Ass
 ociation:\n\nhttps://otis.osmanager4.com/#/openEnrollment?co=1&cid=3673046
X-WR-RELCALID:f74c3d2181b7a8121cf2d5c505cafe3d
X-WR-TIMEZONE:America/Chicago
BEGIN:VTIMEZONE
TZID:America/Chicago
BEGIN:STANDARD
TZNAME:CST
DTSTART:20241103T020000
TZOFFSETFROM:-0500
TZOFFSETTO:-0600
RDATE:20251102T020000
RDATE:20261101T020000
END:STANDARD
BEGIN:DAYLIGHT
TZNAME:CDT
DTSTART:20250309T020000
TZOFFSETFROM:-0600
TZOFFSETTO:-0500
RDATE:20260308T020000
END:DAYLIGHT
END:VTIMEZONE
BEGIN:VEVENT
UID:caff92dc-1a91-4035-a375-3f5b6ce676a4
DTSTAMP:20260420T195904Z
DESCRIPTION:HSI Pediatric First Aid | CPR AED Child/Infant/Adult (2020) (IN
 -PERSON CLASS)\n\nIn-Person Class (9 AM to 1 PM) at Midwest Childcare Asso
 ciation:\n\nhttps://otis.osmanager4.com/#/openEnrollment?co=1&cid=3673046
DTSTART;TZID=America/Chicago:20250626T180000
DTEND;TZID=America/Chicago:20250626T220000
LOCATION:https://otis.osmanager4.com/#/openEnrollment?co=1&cid=3673046
SUMMARY:HSI Pediatric First Aid | CPR AED Child/Infant/Adult (2020) (IN-PER
 SON CLASS)
END:VEVENT
END:VCALENDAR
