BEGIN:VCALENDAR
VERSION:2.0
PRODID:-//midwestchildcare.org//NONSGML kigkonsult.se iCalcreator 2.30.10//
CALSCALE:GREGORIAN
METHOD:PUBLISH
UID:a94549d6-344c-4c40-ba0f-0c56653b5dbb
X-WR-CALDESC:Mr. Nogginbody Gets a Hammer | An Interactive Preschool Class
 \n\nYou are invited to a Zoom meeting.\nWhen: Jun 19\, 2025 10:00 AM Centr
 al Time (US and Canada)\n\nRegister in advance for this meeting:\nhttps://
 us02web.zoom.us/meeting/register/XY2nYPo6TRaN-yNMTdOLNw\n\nAfter registeri
 ng\, you will receive a confirmation email containing information about jo
 ining the meeting.
X-WR-RELCALID:022e8c014784166707dd6d9d340fd78e
X-WR-TIMEZONE:America/Chicago
BEGIN:VTIMEZONE
TZID:America/Chicago
BEGIN:STANDARD
TZNAME:CST
DTSTART:20241103T020000
TZOFFSETFROM:-0500
TZOFFSETTO:-0600
RDATE:20251102T020000
RDATE:20261101T020000
END:STANDARD
BEGIN:DAYLIGHT
TZNAME:CDT
DTSTART:20250309T020000
TZOFFSETFROM:-0600
TZOFFSETTO:-0500
RDATE:20260308T020000
END:DAYLIGHT
END:VTIMEZONE
BEGIN:VEVENT
UID:5b72c425-6a6f-424a-bf32-288bb278589c
DTSTAMP:20260420T195659Z
DESCRIPTION:Mr. Nogginbody Gets a Hammer | An Interactive Preschool Class\n
 \nYou are invited to a Zoom meeting.\nWhen: Jun 19\, 2025 10:00 AM Central
  Time (US and Canada)\n\nRegister in advance for this meeting:\nhttps://us
 02web.zoom.us/meeting/register/XY2nYPo6TRaN-yNMTdOLNw\n\nAfter registering
 \, you will receive a confirmation email containing information about join
 ing the meeting.
DTSTART;TZID=America/Chicago:20250619T100000
DTEND;TZID=America/Chicago:20250619T103000
LOCATION:https://us02web.zoom.us/meeting/register/XY2nYPo6TRaN-yNMTdOLNw
SUMMARY:Mr. Nogginbody Gets a Hammer | An Interactive Preschool Class
END:VEVENT
END:VCALENDAR
