BEGIN:VCALENDAR
VERSION:2.0
PRODID:-//midwestchildcare.org//NONSGML kigkonsult.se iCalcreator 2.30.10//
CALSCALE:GREGORIAN
METHOD:PUBLISH
UID:e8de18b5-0326-41af-b8cd-84fa4abbf72a
X-WR-CALDESC:Mr. Nogginbody Gets a Hammer | An Interactive Preschool Class
 \n\nYou are invited to a Zoom meeting.\nWhen: Jun 19\, 2025 09:30 AM Centr
 al Time (US and Canada)\n\nRegister in advance for this meeting:\nhttps://
 us02web.zoom.us/meeting/register/JumhqHgxTl6aRMCRpVoHhw\n\nAfter registeri
 ng\, you will receive a confirmation email containing information about jo
 ining the meeting.
X-WR-RELCALID:0492c2779fe93bafed640f2a7329e487
X-WR-TIMEZONE:America/Chicago
BEGIN:VTIMEZONE
TZID:America/Chicago
BEGIN:STANDARD
TZNAME:CST
DTSTART:20241103T020000
TZOFFSETFROM:-0500
TZOFFSETTO:-0600
RDATE:20251102T020000
RDATE:20261101T020000
END:STANDARD
BEGIN:DAYLIGHT
TZNAME:CDT
DTSTART:20250309T020000
TZOFFSETFROM:-0600
TZOFFSETTO:-0500
RDATE:20260308T020000
END:DAYLIGHT
END:VTIMEZONE
BEGIN:VEVENT
UID:73952627-06fe-4bd8-b269-8379301b8cd8
DTSTAMP:20260420T201321Z
DESCRIPTION:Mr. Nogginbody Gets a Hammer | An Interactive Preschool Class\n
 \nYou are invited to a Zoom meeting.\nWhen: Jun 19\, 2025 09:30 AM Central
  Time (US and Canada)\n\nRegister in advance for this meeting:\nhttps://us
 02web.zoom.us/meeting/register/JumhqHgxTl6aRMCRpVoHhw\n\nAfter registering
 \, you will receive a confirmation email containing information about join
 ing the meeting.
DTSTART;TZID=America/Chicago:20250619T093000
DTEND;TZID=America/Chicago:20250619T100000
LOCATION:https://us02web.zoom.us/meeting/register/JumhqHgxTl6aRMCRpVoHhw
SUMMARY:Mr. Nogginbody Gets a Hammer | An Interactive Preschool Class
END:VEVENT
END:VCALENDAR
