BEGIN:VCALENDAR
VERSION:2.0
PRODID:-//midwestchildcare.org//NONSGML kigkonsult.se iCalcreator 2.30.10//
CALSCALE:GREGORIAN
METHOD:PUBLISH
UID:1c8447d1-40c2-4c39-ae2d-2055d520d147
X-WR-CALDESC:Mr. Nogginbody Gets a Hammer | An Interactive Preschool Class
 \n\nYou are invited to a Zoom meeting.When: Jun 19\, 2025 09:00 AM Central
  Time (US and Canada)\n\nRegister in advance for this meeting:\nhttps://us
 02web.zoom.us/meeting/register/YIf64ndaQhaX8LIlYbkkPg\n\nAfter registering
 \, you will receive a confirmation email containing information about join
 ing the meeting.
X-WR-RELCALID:14f5437dbd60ae0fdf76bd438ea46835
X-WR-TIMEZONE:America/Chicago
BEGIN:VTIMEZONE
TZID:America/Chicago
BEGIN:STANDARD
TZNAME:CST
DTSTART:20241103T020000
TZOFFSETFROM:-0500
TZOFFSETTO:-0600
RDATE:20251102T020000
RDATE:20261101T020000
END:STANDARD
BEGIN:DAYLIGHT
TZNAME:CDT
DTSTART:20250309T020000
TZOFFSETFROM:-0600
TZOFFSETTO:-0500
RDATE:20260308T020000
END:DAYLIGHT
END:VTIMEZONE
BEGIN:VEVENT
UID:45e3c790-a26a-48aa-a396-b0dd393d875c
DTSTAMP:20260420T200506Z
DESCRIPTION:Mr. Nogginbody Gets a Hammer | An Interactive Preschool Class\n
 \nYou are invited to a Zoom meeting.When: Jun 19\, 2025 09:00 AM Central T
 ime (US and Canada)\n\nRegister in advance for this meeting:\nhttps://us02
 web.zoom.us/meeting/register/YIf64ndaQhaX8LIlYbkkPg\n\nAfter registering\,
  you will receive a confirmation email containing information about joinin
 g the meeting.
DTSTART;TZID=America/Chicago:20250619T090000
DTEND;TZID=America/Chicago:20250619T093000
LOCATION:https://us02web.zoom.us/meeting/register/YIf64ndaQhaX8LIlYbkkPg
SUMMARY:Mr. Nogginbody Gets a Hammer | An Interactive Preschool Class
END:VEVENT
END:VCALENDAR
