BEGIN:VCALENDAR
VERSION:2.0
PRODID:-//midwestchildcare.org//NONSGML kigkonsult.se iCalcreator 2.30.10//
CALSCALE:GREGORIAN
METHOD:PUBLISH
UID:558ce3a6-bc0d-497e-ad70-fd3bdf7441d0
X-WR-CALDESC:Crash\, Splash or Moo! | An Interactive Preschool Class\n\nYou
  are invited to a Zoom meeting.\nWhen: Jun 12\, 2025 10:00 AM Central Time
  (US and Canada)\n\nRegister in advance for this meeting:\nhttps://us02web
 .zoom.us/meeting/register/bQAAt7W5QauDwkWwDgClOQ\n\nAfter registering\, yo
 u will receive a confirmation email containing information about joining t
 he meeting.
X-WR-RELCALID:4a293d8791ffca4884e4e05c22243b4a
X-WR-TIMEZONE:America/Chicago
BEGIN:VTIMEZONE
TZID:America/Chicago
BEGIN:STANDARD
TZNAME:CST
DTSTART:20241103T020000
TZOFFSETFROM:-0500
TZOFFSETTO:-0600
RDATE:20251102T020000
RDATE:20261101T020000
END:STANDARD
BEGIN:DAYLIGHT
TZNAME:CDT
DTSTART:20250309T020000
TZOFFSETFROM:-0600
TZOFFSETTO:-0500
RDATE:20260308T020000
END:DAYLIGHT
END:VTIMEZONE
BEGIN:VEVENT
UID:60762137-28ff-497e-ae56-0fc897815231
DTSTAMP:20260420T200323Z
DESCRIPTION:Crash\, Splash or Moo! | An Interactive Preschool Class\n\nYou 
 are invited to a Zoom meeting.\nWhen: Jun 12\, 2025 10:00 AM Central Time 
 (US and Canada)\n\nRegister in advance for this meeting:\nhttps://us02web.
 zoom.us/meeting/register/bQAAt7W5QauDwkWwDgClOQ\n\nAfter registering\, you
  will receive a confirmation email containing information about joining th
 e meeting.
DTSTART;TZID=America/Chicago:20250612T100000
DTEND;TZID=America/Chicago:20250612T103000
LOCATION:https://us02web.zoom.us/meeting/register/bQAAt7W5QauDwkWwDgClOQ
SUMMARY:Crash\, Splash or Moo! | An Interactive Preschool Class
END:VEVENT
END:VCALENDAR
