BEGIN:VCALENDAR
VERSION:2.0
PRODID:-//midwestchildcare.org//NONSGML kigkonsult.se iCalcreator 2.30.10//
CALSCALE:GREGORIAN
METHOD:PUBLISH
UID:4f28c593-82cb-496c-997c-a9a0050f7914
X-WR-CALDESC:Crash\, Splash or Moo! | An Interactive Preschool Class\n\nYou
  are invited to a Zoom meeting.\nWhen: Jun 12\, 2025 09:30 AM Central Time
  (US and Canada)\n\nRegister in advance for this meeting:\nhttps://us02web
 .zoom.us/meeting/register/AJnsB9HoR0yse4d8S6vAog\n\nAfter registering\, yo
 u will receive a confirmation email containing information about joining t
 he meeting.
X-WR-RELCALID:91c3bef7b5c74dd82f4af9503be53bd8
X-WR-TIMEZONE:America/Chicago
BEGIN:VTIMEZONE
TZID:America/Chicago
BEGIN:STANDARD
TZNAME:CST
DTSTART:20241103T020000
TZOFFSETFROM:-0500
TZOFFSETTO:-0600
RDATE:20251102T020000
RDATE:20261101T020000
END:STANDARD
BEGIN:DAYLIGHT
TZNAME:CDT
DTSTART:20250309T020000
TZOFFSETFROM:-0600
TZOFFSETTO:-0500
RDATE:20260308T020000
END:DAYLIGHT
END:VTIMEZONE
BEGIN:VEVENT
UID:f7b58a9f-7f9f-4b2b-89e6-8d33c54585fc
DTSTAMP:20260420T194803Z
DESCRIPTION:Crash\, Splash or Moo! | An Interactive Preschool Class\n\nYou 
 are invited to a Zoom meeting.\nWhen: Jun 12\, 2025 09:30 AM Central Time 
 (US and Canada)\n\nRegister in advance for this meeting:\nhttps://us02web.
 zoom.us/meeting/register/AJnsB9HoR0yse4d8S6vAog\n\nAfter registering\, you
  will receive a confirmation email containing information about joining th
 e meeting.
DTSTART;TZID=America/Chicago:20250612T093000
DTEND;TZID=America/Chicago:20250612T100000
LOCATION:https://us02web.zoom.us/meeting/register/AJnsB9HoR0yse4d8S6vAog
SUMMARY:Crash\, Splash or Moo! | An Interactive Preschool Class
END:VEVENT
END:VCALENDAR
