BEGIN:VCALENDAR
VERSION:2.0
PRODID:-//midwestchildcare.org//NONSGML kigkonsult.se iCalcreator 2.30.10//
CALSCALE:GREGORIAN
METHOD:PUBLISH
UID:f170148e-45b0-4c30-b5dc-560f361d61c4
X-WR-CALDESC:Crash\, Splash or Moo! | An Interactive Preschool Class\n\nYou
  are invited to a Zoom meeting.When: Jun 12\, 2025 09:00 AM Central Time (
 US and Canada)\n\nRegister in advance for this meeting:\nhttps://us02web.z
 oom.us/meeting/register/dLckeAt9TJG3rq8Ep2nFuQ\n\nAfter registering\, you 
 will receive a confirmation email containing information about joining the
  meeting.
X-WR-RELCALID:d2b0d78abfa1273136ce5aeb914356f7
X-WR-TIMEZONE:America/Chicago
BEGIN:VTIMEZONE
TZID:America/Chicago
BEGIN:STANDARD
TZNAME:CST
DTSTART:20241103T020000
TZOFFSETFROM:-0500
TZOFFSETTO:-0600
RDATE:20251102T020000
RDATE:20261101T020000
END:STANDARD
BEGIN:DAYLIGHT
TZNAME:CDT
DTSTART:20250309T020000
TZOFFSETFROM:-0600
TZOFFSETTO:-0500
RDATE:20260308T020000
END:DAYLIGHT
END:VTIMEZONE
BEGIN:VEVENT
UID:bf6b1f0b-2e59-4f70-bd31-d9dfa285d40f
DTSTAMP:20260420T195700Z
DESCRIPTION:Crash\, Splash or Moo! | An Interactive Preschool Class\n\nYou 
 are invited to a Zoom meeting.When: Jun 12\, 2025 09:00 AM Central Time (U
 S and Canada)\n\nRegister in advance for this meeting:\nhttps://us02web.zo
 om.us/meeting/register/dLckeAt9TJG3rq8Ep2nFuQ\n\nAfter registering\, you w
 ill receive a confirmation email containing information about joining the 
 meeting.
DTSTART;TZID=America/Chicago:20250612T090000
DTEND;TZID=America/Chicago:20250612T093000
LOCATION:https://us02web.zoom.us/meeting/register/dLckeAt9TJG3rq8Ep2nFuQ
SUMMARY:Crash\, Splash or Moo! | An Interactive Preschool Class
END:VEVENT
END:VCALENDAR
