BEGIN:VCALENDAR
VERSION:2.0
PRODID:-//midwestchildcare.org//NONSGML kigkonsult.se iCalcreator 2.30.10//
CALSCALE:GREGORIAN
METHOD:PUBLISH
UID:4e70dbc9-3fb0-43e6-969b-f0f934de44f0
X-WR-CALDESC:Understanding Food Additives | 1-Hour Webinar\n\nPlease regist
 er for Understanding Food Additives onJun 9\, 2025 1:00 PM CDT at:\n\nhttp
 s://attendee.gotowebinar.com/register/5502661419286971486\n\nAfter registe
 ring\, you will receive a confirmation email containing information about 
 joining the webinar.
X-WR-RELCALID:01775861c6c1489a68948cd370b0a826
X-WR-TIMEZONE:America/Chicago
BEGIN:VTIMEZONE
TZID:America/Chicago
BEGIN:STANDARD
TZNAME:CST
DTSTART:20241103T020000
TZOFFSETFROM:-0500
TZOFFSETTO:-0600
RDATE:20251102T020000
RDATE:20261101T020000
END:STANDARD
BEGIN:DAYLIGHT
TZNAME:CDT
DTSTART:20250309T020000
TZOFFSETFROM:-0600
TZOFFSETTO:-0500
RDATE:20260308T020000
END:DAYLIGHT
END:VTIMEZONE
BEGIN:VEVENT
UID:4a493d6d-be0c-47bb-9d9a-cb0ee1ddd3f6
DTSTAMP:20260420T200343Z
DESCRIPTION:Understanding Food Additives | 1-Hour Webinar\n\nPlease registe
 r for Understanding Food Additives onJun 9\, 2025 1:00 PM CDT at:\n\nhttps
 ://attendee.gotowebinar.com/register/5502661419286971486\n\nAfter register
 ing\, you will receive a confirmation email containing information about j
 oining the webinar.
DTSTART;TZID=America/Chicago:20250609T130000
DTEND;TZID=America/Chicago:20250609T140000
LOCATION:https://attendee.gotowebinar.com/register/5502661419286971486
SUMMARY:Understanding Food Additives | 1-Hour Webinar
END:VEVENT
END:VCALENDAR
