BEGIN:VCALENDAR
VERSION:2.0
PRODID:-//midwestchildcare.org//NONSGML kigkonsult.se iCalcreator 2.30.10//
CALSCALE:GREGORIAN
METHOD:PUBLISH
UID:83dfe839-6e44-447c-a022-773e5a53622a
X-WR-CALDESC:Health Benefits of Mindfulness\, Meditation and Physical Activ
 ity for Children | In-Person Training\n\nPlease register for Health Benefi
 ts of Mindfulness\, Meditation and Physical Activity for Children on Jun 8
 \, 2025 9:00 AM-1PM CDT at:\n\nhttps://attendee.gotowebinar.com/register/8
 646860054403709792\n\nAfter registering\, you will receive a confirmation 
 email containing information about joining the webinar.
X-WR-RELCALID:60563a74e7afe71f33f378b8341ffb6e
X-WR-TIMEZONE:America/Chicago
BEGIN:VTIMEZONE
TZID:America/Chicago
BEGIN:STANDARD
TZNAME:CST
DTSTART:20241103T020000
TZOFFSETFROM:-0500
TZOFFSETTO:-0600
RDATE:20251102T020000
RDATE:20261101T020000
END:STANDARD
BEGIN:DAYLIGHT
TZNAME:CDT
DTSTART:20250309T020000
TZOFFSETFROM:-0600
TZOFFSETTO:-0500
RDATE:20260308T020000
END:DAYLIGHT
END:VTIMEZONE
BEGIN:VEVENT
UID:c24014c2-4135-4da4-acb4-26a9bf122007
DTSTAMP:20260420T200157Z
DESCRIPTION:Health Benefits of Mindfulness\, Meditation and Physical Activi
 ty for Children | In-Person Training\n\nPlease register for Health Benefit
 s of Mindfulness\, Meditation and Physical Activity for Children on Jun 8\
 , 2025 9:00 AM-1PM CDT at:\n\nhttps://attendee.gotowebinar.com/register/86
 46860054403709792\n\nAfter registering\, you will receive a confirmation e
 mail containing information about joining the webinar.
DTSTART;TZID=America/Chicago:20250608T090000
DTEND;TZID=America/Chicago:20250608T130000
LOCATION:https://attendee.gotowebinar.com/register/8646860054403709792
SUMMARY:Health Benefits of Mindfulness\, Meditation and Physical Activity f
 or Children | In-Person Training
END:VEVENT
END:VCALENDAR
