BEGIN:VCALENDAR
VERSION:2.0
PRODID:-//midwestchildcare.org//NONSGML kigkonsult.se iCalcreator 2.30.10//
CALSCALE:GREGORIAN
METHOD:PUBLISH
UID:b6940334-747d-4661-9f78-661acdb901f3
X-WR-CALDESC:SuperWorm | An Interactive Preschool Class\n\nYou are invited 
 to a Zoom meeting.When: Jun 5\, 2025 09:30 AM Central Time (US and Canada)
 \n\nRegister in advance for this meeting:\nhttps://us02web.zoom.us/meeting
 /register/Z7cZ7u8NTT6r1E-gxDUHnQ\n\nAfter registering\, you will receive a
  confirmation email containing information about joining the meeting.
X-WR-RELCALID:83c6957e54345919568961f662545b1a
X-WR-TIMEZONE:America/Chicago
BEGIN:VTIMEZONE
TZID:America/Chicago
BEGIN:STANDARD
TZNAME:CST
DTSTART:20241103T020000
TZOFFSETFROM:-0500
TZOFFSETTO:-0600
RDATE:20251102T020000
RDATE:20261101T020000
END:STANDARD
BEGIN:DAYLIGHT
TZNAME:CDT
DTSTART:20250309T020000
TZOFFSETFROM:-0600
TZOFFSETTO:-0500
RDATE:20260308T020000
END:DAYLIGHT
END:VTIMEZONE
BEGIN:VEVENT
UID:30c509e8-79b5-47b0-bcd8-6d8ec9a16be8
DTSTAMP:20260420T200255Z
DESCRIPTION:SuperWorm | An Interactive Preschool Class\n\nYou are invited t
 o a Zoom meeting.When: Jun 5\, 2025 09:30 AM Central Time (US and Canada)
 \n\nRegister in advance for this meeting:\nhttps://us02web.zoom.us/meeting
 /register/Z7cZ7u8NTT6r1E-gxDUHnQ\n\nAfter registering\, you will receive a
  confirmation email containing information about joining the meeting.
DTSTART;TZID=America/Chicago:20250605T093000
DTEND;TZID=America/Chicago:20250605T100000
LOCATION:https://us02web.zoom.us/meeting/register/Z7cZ7u8NTT6r1E-gxDUHnQ
SUMMARY:SuperWorm | An Interactive Preschool Class
END:VEVENT
END:VCALENDAR
