BEGIN:VCALENDAR
VERSION:2.0
PRODID:-//midwestchildcare.org//NONSGML kigkonsult.se iCalcreator 2.30.10//
CALSCALE:GREGORIAN
METHOD:PUBLISH
UID:61a3cfb0-b036-48b2-86d0-a10bb4be560c
X-WR-CALDESC:SuperWorm | An Interactive Preschool Class\n\nYou are invited 
 to a Zoom meeting.\nWhen: Jun 5\, 2025 09:00 AM Central Time (US and Canad
 a)\n\nRegister in advance for this meeting:\nhttps://us02web.zoom.us/meeti
 ng/register/X636tS3tQk-82jvNrcyXrw\n\nAfter registering\, you will receive
  a confirmation email containing information about joining the meeting.
X-WR-RELCALID:c9733a32feece2deddf256c286469749
X-WR-TIMEZONE:America/Chicago
BEGIN:VTIMEZONE
TZID:America/Chicago
BEGIN:STANDARD
TZNAME:CST
DTSTART:20241103T020000
TZOFFSETFROM:-0500
TZOFFSETTO:-0600
RDATE:20251102T020000
RDATE:20261101T020000
END:STANDARD
BEGIN:DAYLIGHT
TZNAME:CDT
DTSTART:20250309T020000
TZOFFSETFROM:-0600
TZOFFSETTO:-0500
RDATE:20260308T020000
END:DAYLIGHT
END:VTIMEZONE
BEGIN:VEVENT
UID:f82abd74-bdda-4627-a34b-40c275335196
DTSTAMP:20260420T194304Z
DESCRIPTION:SuperWorm | An Interactive Preschool Class\n\nYou are invited t
 o a Zoom meeting.\nWhen: Jun 5\, 2025 09:00 AM Central Time (US and Canada
 )\n\nRegister in advance for this meeting:\nhttps://us02web.zoom.us/meetin
 g/register/X636tS3tQk-82jvNrcyXrw\n\nAfter registering\, you will receive 
 a confirmation email containing information about joining the meeting.
DTSTART;TZID=America/Chicago:20250605T090000
DTEND;TZID=America/Chicago:20250605T093000
LOCATION:https://us02web.zoom.us/meeting/register/X636tS3tQk-82jvNrcyXrw
SUMMARY:SuperWorm | An Interactive Preschool Class
END:VEVENT
END:VCALENDAR
