BEGIN:VCALENDAR
VERSION:2.0
PRODID:-//midwestchildcare.org//NONSGML kigkonsult.se iCalcreator 2.30.10//
CALSCALE:GREGORIAN
METHOD:PUBLISH
UID:09f880d0-f978-4cda-9f37-0e6df3ce3928
X-WR-CALDESC:HSI Pediatric First Aid | CPR AED Child/Infant/Adult (2020)\n
 \nZoom CPR/AED/FA *Renewal* (6 to 8 PM) & Hands On In-Person (by appt):\n
 \nhttps://otis.osmanager4.com/#/openEnrollment?co=1&cid=4113992
X-WR-RELCALID:d7f067d3c197614e130e1eb5e4719869
X-WR-TIMEZONE:America/Chicago
BEGIN:VTIMEZONE
TZID:America/Chicago
BEGIN:STANDARD
TZNAME:CST
DTSTART:20241103T020000
TZOFFSETFROM:-0500
TZOFFSETTO:-0600
RDATE:20251102T020000
RDATE:20261101T020000
END:STANDARD
BEGIN:DAYLIGHT
TZNAME:CDT
DTSTART:20250309T020000
TZOFFSETFROM:-0600
TZOFFSETTO:-0500
RDATE:20260308T020000
END:DAYLIGHT
END:VTIMEZONE
BEGIN:VEVENT
UID:1be9500b-39f6-41c7-a6ac-662e5884c5f8
DTSTAMP:20260420T200158Z
DESCRIPTION:HSI Pediatric First Aid | CPR AED Child/Infant/Adult (2020)\n\n
 Zoom CPR/AED/FA *Renewal* (6 to 8 PM) & Hands On In-Person (by appt):\n\nh
 ttps://otis.osmanager4.com/#/openEnrollment?co=1&cid=4113992
DTSTART;TZID=America/Chicago:20250605T180000
DTEND;TZID=America/Chicago:20250605T200000
LOCATION:https://otis.osmanager4.com/#/openEnrollment?co=1&cid=4113992
SUMMARY:HSI Pediatric First Aid | CPR AED Child/Infant/Adult (2020)
END:VEVENT
END:VCALENDAR
