BEGIN:VCALENDAR
VERSION:2.0
PRODID:-//midwestchildcare.org//NONSGML kigkonsult.se iCalcreator 2.30.10//
CALSCALE:GREGORIAN
METHOD:PUBLISH
UID:e3f5e088-be2e-47d4-8ef4-6e153931722c
X-WR-CALDESC:Common Nutritional Deficiencies in Children | 1-Hour Webinar\n
 \nPlease register for Common Nutritional Deficiencies in Children on Jun 5
 \, 2025 1:00 PM CDT at:\n\nhttps://attendee.gotowebinar.com/register/60261
 58696480402776\n\nAfter registering\, you will receive a confirmation emai
 l containing information about joining the webinar.
X-WR-RELCALID:b2fe4a8fdd988e3f853dadfc0a0088d4
X-WR-TIMEZONE:America/Chicago
BEGIN:VTIMEZONE
TZID:America/Chicago
BEGIN:STANDARD
TZNAME:CST
DTSTART:20241103T020000
TZOFFSETFROM:-0500
TZOFFSETTO:-0600
RDATE:20251102T020000
RDATE:20261101T020000
END:STANDARD
BEGIN:DAYLIGHT
TZNAME:CDT
DTSTART:20250309T020000
TZOFFSETFROM:-0600
TZOFFSETTO:-0500
RDATE:20260308T020000
END:DAYLIGHT
END:VTIMEZONE
BEGIN:VEVENT
UID:7151adc9-1d20-4c57-a090-8209e28afc5d
DTSTAMP:20260420T200434Z
DESCRIPTION:Common Nutritional Deficiencies in Children | 1-Hour Webinar\n
 \nPlease register for Common Nutritional Deficiencies in Children on Jun 5
 \, 2025 1:00 PM CDT at:\n\nhttps://attendee.gotowebinar.com/register/60261
 58696480402776\n\nAfter registering\, you will receive a confirmation emai
 l containing information about joining the webinar.
DTSTART;TZID=America/Chicago:20250605T130000
DTEND;TZID=America/Chicago:20250605T140000
LOCATION:https://attendee.gotowebinar.com/register/6026158696480402776
SUMMARY:Common Nutritional Deficiencies in Children | 1-Hour Webinar
END:VEVENT
END:VCALENDAR
