BEGIN:VCALENDAR
VERSION:2.0
PRODID:-//midwestchildcare.org//NONSGML kigkonsult.se iCalcreator 2.30.10//
CALSCALE:GREGORIAN
METHOD:PUBLISH
UID:2cea456a-7fee-48d1-8c11-24142f4a1b7b
X-WR-CALDESC:Let’s Be Bees| An Interactive Preschool Class\n\nYou are invit
 ed to a Zoom meeting.When: May 29\, 2025 10:00 AM Central Time (US and Can
 ada)\n\nRegister in advance for this meeting:\nhttps://us02web.zoom.us/mee
 ting/register/X3MZLLcLTSiAc3PPn23gwA\n\nAfter registering\, you will recei
 ve a confirmation email containing information about joining the meeting.
X-WR-RELCALID:8ceaeddbd98c591bcecdc260faf96a72
X-WR-TIMEZONE:America/Chicago
BEGIN:VTIMEZONE
TZID:America/Chicago
BEGIN:STANDARD
TZNAME:CST
DTSTART:20241103T020000
TZOFFSETFROM:-0500
TZOFFSETTO:-0600
RDATE:20251102T020000
RDATE:20261101T020000
END:STANDARD
BEGIN:DAYLIGHT
TZNAME:CDT
DTSTART:20250309T020000
TZOFFSETFROM:-0600
TZOFFSETTO:-0500
RDATE:20260308T020000
END:DAYLIGHT
END:VTIMEZONE
BEGIN:VEVENT
UID:c0634766-23b4-4f11-a86c-381c8e159566
DTSTAMP:20260420T213828Z
DESCRIPTION:Let’s Be Bees| An Interactive Preschool Class\n\nYou are invite
 d to a Zoom meeting.When: May 29\, 2025 10:00 AM Central Time (US and Cana
 da)\n\nRegister in advance for this meeting:\nhttps://us02web.zoom.us/meet
 ing/register/X3MZLLcLTSiAc3PPn23gwA\n\nAfter registering\, you will receiv
 e a confirmation email containing information about joining the meeting.
DTSTART;TZID=America/Chicago:20250529T100000
DTEND;TZID=America/Chicago:20250529T103000
LOCATION:https://us02web.zoom.us/meeting/register/X3MZLLcLTSiAc3PPn23gwA
SUMMARY:Let’s Be Bees| An Interactive Preschool Class
END:VEVENT
END:VCALENDAR
