BEGIN:VCALENDAR
VERSION:2.0
PRODID:-//midwestchildcare.org//NONSGML kigkonsult.se iCalcreator 2.30.10//
CALSCALE:GREGORIAN
METHOD:PUBLISH
UID:6ed3b4dc-d896-4999-977c-e283ede9de33
X-WR-CALDESC:Let’s Be Bees| An Interactive Preschool Class\n\nYou are invit
 ed to a Zoom meeting.\nWhen: May 29\, 2025 09:30 AM Central Time (US and C
 anada)\n\nRegister in advance for this meeting:\nhttps://us02web.zoom.us/m
 eeting/register/QR4HwlbCTHiRXWzpV8uKhw\n\nAfter registering\, you will rec
 eive a confirmation email containing information about joining the meeting
 .
X-WR-RELCALID:1c7ac34a1eb354bd37b4c4a1039ba923
X-WR-TIMEZONE:America/Chicago
BEGIN:VTIMEZONE
TZID:America/Chicago
BEGIN:STANDARD
TZNAME:CST
DTSTART:20241103T020000
TZOFFSETFROM:-0500
TZOFFSETTO:-0600
RDATE:20251102T020000
RDATE:20261101T020000
END:STANDARD
BEGIN:DAYLIGHT
TZNAME:CDT
DTSTART:20250309T020000
TZOFFSETFROM:-0600
TZOFFSETTO:-0500
RDATE:20260308T020000
END:DAYLIGHT
END:VTIMEZONE
BEGIN:VEVENT
UID:26693839-abf4-4cd9-a310-4cab3f265f1c
DTSTAMP:20260420T214305Z
DESCRIPTION:Let’s Be Bees| An Interactive Preschool Class\n\nYou are invite
 d to a Zoom meeting.\nWhen: May 29\, 2025 09:30 AM Central Time (US and Ca
 nada)\n\nRegister in advance for this meeting:\nhttps://us02web.zoom.us/me
 eting/register/QR4HwlbCTHiRXWzpV8uKhw\n\nAfter registering\, you will rece
 ive a confirmation email containing information about joining the meeting.
DTSTART;TZID=America/Chicago:20250529T093000
DTEND;TZID=America/Chicago:20250529T100000
LOCATION:https://us02web.zoom.us/meeting/register/QR4HwlbCTHiRXWzpV8uKhw
SUMMARY:Let’s Be Bees| An Interactive Preschool Class
END:VEVENT
END:VCALENDAR
