BEGIN:VCALENDAR
VERSION:2.0
PRODID:-//midwestchildcare.org//NONSGML kigkonsult.se iCalcreator 2.30.10//
CALSCALE:GREGORIAN
METHOD:PUBLISH
UID:8459c63d-cac2-418e-8226-a8547ad52f8c
X-WR-CALDESC:Let’s Be Bees| An Interactive Preschool Class\n\nYou are invit
 ed to a Zoom meeting.When: May 29\, 2025 09:00 AM Central Time (US and Can
 ada)\n\nRegister in advance for this meeting:\nhttps://us02web.zoom.us/mee
 ting/register/pxHsg9fyRwmpfnH5oZ_hPg\n\nAfter registering\, you will recei
 ve a confirmation email containing information about joining the meeting.
 \n\n
X-WR-RELCALID:a7388c84dc71eb2a1210b75c1a47d3da
X-WR-TIMEZONE:America/Chicago
BEGIN:VTIMEZONE
TZID:America/Chicago
BEGIN:STANDARD
TZNAME:CST
DTSTART:20241103T020000
TZOFFSETFROM:-0500
TZOFFSETTO:-0600
RDATE:20251102T020000
RDATE:20261101T020000
END:STANDARD
BEGIN:DAYLIGHT
TZNAME:CDT
DTSTART:20250309T020000
TZOFFSETFROM:-0600
TZOFFSETTO:-0500
RDATE:20260308T020000
END:DAYLIGHT
END:VTIMEZONE
BEGIN:VEVENT
UID:3eff69a4-af0a-49ca-8254-c5459299344d
DTSTAMP:20260420T213026Z
DESCRIPTION:Let’s Be Bees| An Interactive Preschool Class\n\nYou are invite
 d to a Zoom meeting.When: May 29\, 2025 09:00 AM Central Time (US and Cana
 da)\n\nRegister in advance for this meeting:\nhttps://us02web.zoom.us/meet
 ing/register/pxHsg9fyRwmpfnH5oZ_hPg\n\nAfter registering\, you will receiv
 e a confirmation email containing information about joining the meeting.\n
 \n
DTSTART;TZID=America/Chicago:20250529T090000
DTEND;TZID=America/Chicago:20250529T093000
LOCATION:https://us02web.zoom.us/meeting/register/pxHsg9fyRwmpfnH5oZ_hPg
SUMMARY:Let’s Be Bees| An Interactive Preschool Class
END:VEVENT
END:VCALENDAR
