BEGIN:VCALENDAR
VERSION:2.0
PRODID:-//midwestchildcare.org//NONSGML kigkonsult.se iCalcreator 2.30.10//
CALSCALE:GREGORIAN
METHOD:PUBLISH
UID:383208f6-15b5-4dd0-8382-7b4efd2bdd7b
X-WR-CALDESC:Dental Health and Children | 1-Hour Webinar\n\nPlease register
  for Dental Health and Children on May 28\, 2025 7:00 PM CDT at:\n\nhttps:
 //attendee.gotowebinar.com/register/571450724714347870\n\nAfter registerin
 g\, you will receive a confirmation email containing information about joi
 ning the webinar.
X-WR-RELCALID:6732c336fd4b237ca79f688143ca7a84
X-WR-TIMEZONE:America/Chicago
BEGIN:VTIMEZONE
TZID:America/Chicago
BEGIN:STANDARD
TZNAME:CST
DTSTART:20241103T020000
TZOFFSETFROM:-0500
TZOFFSETTO:-0600
RDATE:20251102T020000
RDATE:20261101T020000
END:STANDARD
BEGIN:DAYLIGHT
TZNAME:CDT
DTSTART:20250309T020000
TZOFFSETFROM:-0600
TZOFFSETTO:-0500
RDATE:20260308T020000
END:DAYLIGHT
END:VTIMEZONE
BEGIN:VEVENT
UID:4de2c1b9-1345-4a6f-9e23-d328f832f956
DTSTAMP:20260420T213929Z
DESCRIPTION:Dental Health and Children | 1-Hour Webinar\n\nPlease register 
 for Dental Health and Children on May 28\, 2025 7:00 PM CDT at:\n\nhttps:/
 /attendee.gotowebinar.com/register/571450724714347870\n\nAfter registering
 \, you will receive a confirmation email containing information about join
 ing the webinar.
DTSTART;TZID=America/Chicago:20250528T190000
DTEND;TZID=America/Chicago:20250528T200000
LOCATION:https://attendee.gotowebinar.com/register/571450724714347870
SUMMARY:Dental Health and Children | 1-Hour Webinar
END:VEVENT
END:VCALENDAR
