BEGIN:VCALENDAR
VERSION:2.0
PRODID:-//midwestchildcare.org//NONSGML kigkonsult.se iCalcreator 2.30.10//
CALSCALE:GREGORIAN
METHOD:PUBLISH
UID:43d2a902-f690-49ce-8c73-2b322bbc7f2d
X-WR-CALDESC:Class Number:	\n32778505\n\nClass Type:	\nClassroom Training\n\n
 Description:	\nHSI Pediatric First Aid | CPR AED Child/Infant/Adult (2020)
 \n\nLocation:	\n7701 Pacific St\nOmaha\, NE 68114\n\nDate/Time:	\n05/22/2025
 \, 6:00 PM - 10:00 PM\n\nRemaining Seats:	\n99\n\nFull In-Person Class @ Mi
 dwest Childcare Association\n\nTo Register:\nhttps://otis.osmanager4.com/#
 /openEnrollment?co=1&cid=3673044
X-WR-RELCALID:03b0b65172d279ae0bce4181808cb762
X-WR-TIMEZONE:America/Chicago
BEGIN:VTIMEZONE
TZID:America/Chicago
BEGIN:STANDARD
TZNAME:CST
DTSTART:20241103T020000
TZOFFSETFROM:-0500
TZOFFSETTO:-0600
RDATE:20251102T020000
RDATE:20261101T020000
END:STANDARD
BEGIN:DAYLIGHT
TZNAME:CDT
DTSTART:20250309T020000
TZOFFSETFROM:-0600
TZOFFSETTO:-0500
RDATE:20260308T020000
END:DAYLIGHT
END:VTIMEZONE
BEGIN:VEVENT
UID:408d5e2c-bbc3-4c88-8469-96afd60e9bc3
DTSTAMP:20260420T214205Z
DESCRIPTION:Class Number:	\n32778505\n\nClass Type:	\nClassroom Training\n\nD
 escription:	\nHSI Pediatric First Aid | CPR AED Child/Infant/Adult (2020)\n
 \nLocation:	\n7701 Pacific St\nOmaha\, NE 68114\n\nDate/Time:	\n05/22/2025\,
  6:00 PM - 10:00 PM\n\nRemaining Seats:	\n99\n\nFull In-Person Class @ Midw
 est Childcare Association\n\nTo Register:\nhttps://otis.osmanager4.com/#/o
 penEnrollment?co=1&cid=3673044
DTSTART;TZID=America/Chicago:20250522T180000
DTEND;TZID=America/Chicago:20250522T220000
LOCATION:7701 Pacific St\, Omaha\, NE 68114 US
SUMMARY:In-Person Class (6 to 10 PM) at Midwest Childcare Association
END:VEVENT
END:VCALENDAR
