BEGIN:VCALENDAR
VERSION:2.0
PRODID:-//midwestchildcare.org//NONSGML kigkonsult.se iCalcreator 2.30.10//
CALSCALE:GREGORIAN
METHOD:PUBLISH
UID:a957704c-1ea3-4f57-8860-6eb228697b34
X-WR-CALDESC:Flowers are Pretty Weird! | An Interactive Preschool Class\n\n
 ou are invited to a Zoom meeting.When: May 22\, 2025 10:00 AM Central Time
  (US and Canada)\n\nRegister in advance for this meeting:\nhttps://us02web
 .zoom.us/meeting/register/a72MnTWRSG-XHdtM3qi8tQ\n\nAfter registering\, yo
 u will receive a confirmation email containing information about joining t
 he meeting.
X-WR-RELCALID:4eebb8f2d441c661296cbb39453df000
X-WR-TIMEZONE:America/Chicago
BEGIN:VTIMEZONE
TZID:America/Chicago
BEGIN:STANDARD
TZNAME:CST
DTSTART:20241103T020000
TZOFFSETFROM:-0500
TZOFFSETTO:-0600
RDATE:20251102T020000
RDATE:20261101T020000
END:STANDARD
BEGIN:DAYLIGHT
TZNAME:CDT
DTSTART:20250309T020000
TZOFFSETFROM:-0600
TZOFFSETTO:-0500
RDATE:20260308T020000
END:DAYLIGHT
END:VTIMEZONE
BEGIN:VEVENT
UID:ecfd622f-538c-4848-97e1-9e4268aa0142
DTSTAMP:20260420T211822Z
DESCRIPTION:Flowers are Pretty Weird! | An Interactive Preschool Class\n\no
 u are invited to a Zoom meeting.When: May 22\, 2025 10:00 AM Central Time 
 (US and Canada)\n\nRegister in advance for this meeting:\nhttps://us02web.
 zoom.us/meeting/register/a72MnTWRSG-XHdtM3qi8tQ\n\nAfter registering\, you
  will receive a confirmation email containing information about joining th
 e meeting.
DTSTART;TZID=America/Chicago:20250522T100000
DTEND;TZID=America/Chicago:20250522T103000
LOCATION:https://us02web.zoom.us/meeting/register/a72MnTWRSG-XHdtM3qi8tQ
SUMMARY:Flowers are Pretty Weird! | An Interactive Preschool Class
END:VEVENT
END:VCALENDAR
