BEGIN:VCALENDAR
VERSION:2.0
PRODID:-//midwestchildcare.org//NONSGML kigkonsult.se iCalcreator 2.30.10//
CALSCALE:GREGORIAN
METHOD:PUBLISH
UID:f724ebf6-fbfe-4b40-86c2-957b477be5aa
X-WR-CALDESC:Flowers are Pretty Weird! | An Interactive Preschool Class\n\n
 You are invited to a Zoom meeting.When: May 22\, 2025 09:30 AM Central Tim
 e (US and Canada)\n\nRegister in advance for this meeting:\nhttps://us02we
 b.zoom.us/meeting/register/dRB4lcMCTwKIM-fOoBjF8w\n\nAfter registering\, y
 ou will receive a confirmation email containing information about joining 
 the meeting.
X-WR-RELCALID:d3f760a23da4fe7ec85c35ca9bb70598
X-WR-TIMEZONE:America/Chicago
BEGIN:VTIMEZONE
TZID:America/Chicago
BEGIN:STANDARD
TZNAME:CST
DTSTART:20241103T020000
TZOFFSETFROM:-0500
TZOFFSETTO:-0600
RDATE:20251102T020000
RDATE:20261101T020000
END:STANDARD
BEGIN:DAYLIGHT
TZNAME:CDT
DTSTART:20250309T020000
TZOFFSETFROM:-0600
TZOFFSETTO:-0500
RDATE:20260308T020000
END:DAYLIGHT
END:VTIMEZONE
BEGIN:VEVENT
UID:8f40adfb-0d01-4793-8ce1-0d40f59886d4
DTSTAMP:20260420T212427Z
DESCRIPTION:Flowers are Pretty Weird! | An Interactive Preschool Class\n\nY
 ou are invited to a Zoom meeting.When: May 22\, 2025 09:30 AM Central Time
  (US and Canada)\n\nRegister in advance for this meeting:\nhttps://us02web
 .zoom.us/meeting/register/dRB4lcMCTwKIM-fOoBjF8w\n\nAfter registering\, yo
 u will receive a confirmation email containing information about joining t
 he meeting.
DTSTART;TZID=America/Chicago:20250522T093000
DTEND;TZID=America/Chicago:20250522T100000
LOCATION:https://us02web.zoom.us/meeting/register/dRB4lcMCTwKIM-fOoBjF8w
SUMMARY:Flowers are Pretty Weird! | An Interactive Preschool Class
END:VEVENT
END:VCALENDAR
