BEGIN:VCALENDAR
VERSION:2.0
PRODID:-//midwestchildcare.org//NONSGML kigkonsult.se iCalcreator 2.30.10//
CALSCALE:GREGORIAN
METHOD:PUBLISH
UID:b670f84a-0789-4448-9f16-dd8524b27b64
X-WR-CALDESC:Flowers are Pretty Weird! | An Interactive Preschool Class\n\n
 You are invited to a Zoom meeting.When: May 22\, 2025 09:00 AM Central Tim
 e (US and Canada)\n\nRegister in advance for this meeting:\nhttps://us02we
 b.zoom.us/meeting/register/JIeaYWr3RSGffoBShWVLRw\n\nAfter registering\, y
 ou will receive a confirmation email containing information about joining 
 the meeting.
X-WR-RELCALID:495455e317d4e6e7da7449b7fdd1e9ea
X-WR-TIMEZONE:America/Chicago
BEGIN:VTIMEZONE
TZID:America/Chicago
BEGIN:STANDARD
TZNAME:CST
DTSTART:20241103T020000
TZOFFSETFROM:-0500
TZOFFSETTO:-0600
RDATE:20251102T020000
RDATE:20261101T020000
END:STANDARD
BEGIN:DAYLIGHT
TZNAME:CDT
DTSTART:20250309T020000
TZOFFSETFROM:-0600
TZOFFSETTO:-0500
RDATE:20260308T020000
END:DAYLIGHT
END:VTIMEZONE
BEGIN:VEVENT
UID:0f8761f5-7d5d-40c2-a7b8-059ef99eabd9
DTSTAMP:20260420T214407Z
DESCRIPTION:Flowers are Pretty Weird! | An Interactive Preschool Class\n\nY
 ou are invited to a Zoom meeting.When: May 22\, 2025 09:00 AM Central Time
  (US and Canada)\n\nRegister in advance for this meeting:\nhttps://us02web
 .zoom.us/meeting/register/JIeaYWr3RSGffoBShWVLRw\n\nAfter registering\, yo
 u will receive a confirmation email containing information about joining t
 he meeting.
DTSTART;TZID=America/Chicago:20250522T090000
DTEND;TZID=America/Chicago:20250522T093000
LOCATION:https://us02web.zoom.us/meeting/register/JIeaYWr3RSGffoBShWVLRw
SUMMARY:Flowers are Pretty Weird! | An Interactive Preschool Class
END:VEVENT
END:VCALENDAR
