BEGIN:VCALENDAR
VERSION:2.0
PRODID:-//midwestchildcare.org//NONSGML kigkonsult.se iCalcreator 2.30.10//
CALSCALE:GREGORIAN
METHOD:PUBLISH
UID:0dbfcec1-a5be-4aa7-9607-31616ef33f28
X-WR-CALDESC:Benefits of Increasing Plant Based Foods | 1-Hour Webinar\n\nP
 lease register for Benefits of Increasing Plant Based Foods on May 21\, 20
 25 7:00 PM CDT at:\n\nhttps://attendee.gotowebinar.com/register/1411746988
 665006427\n\nAfter registering\, you will receive a confirmation email con
 taining information about joining the webinar.
X-WR-RELCALID:c789af1b362dcdedf630a7d61e30147d
X-WR-TIMEZONE:America/Chicago
BEGIN:VTIMEZONE
TZID:America/Chicago
BEGIN:STANDARD
TZNAME:CST
DTSTART:20241103T020000
TZOFFSETFROM:-0500
TZOFFSETTO:-0600
RDATE:20251102T020000
RDATE:20261101T020000
END:STANDARD
BEGIN:DAYLIGHT
TZNAME:CDT
DTSTART:20250309T020000
TZOFFSETFROM:-0600
TZOFFSETTO:-0500
RDATE:20260308T020000
END:DAYLIGHT
END:VTIMEZONE
BEGIN:VEVENT
UID:a2f94bc5-f345-413a-b0f7-d92136e55f14
DTSTAMP:20260420T213249Z
DESCRIPTION:Benefits of Increasing Plant Based Foods | 1-Hour Webinar\n\nPl
 ease register for Benefits of Increasing Plant Based Foods on May 21\, 202
 5 7:00 PM CDT at:\n\nhttps://attendee.gotowebinar.com/register/14117469886
 65006427\n\nAfter registering\, you will receive a confirmation email cont
 aining information about joining the webinar.
DTSTART;TZID=America/Chicago:20250521T190000
DTEND;TZID=America/Chicago:20250521T200000
LOCATION:https://attendee.gotowebinar.com/register/1411746988665006427
SUMMARY:Benefits of Increasing Plant Based Foods | 1-Hour Webinar
END:VEVENT
END:VCALENDAR
